Workbook

Sheet Rekapitulácia
A2: Rekapitulácia rozpočtu | F2: Sadzby DPH
F3: A | G3: B
A4: Stavba Rekonštrukcia turistickej infraštruktúry pri rieke Topľa | F4: 0.2 | G4: 0
A6: Názov objektu | B6: ZRN | C6: VRN | D6: HZS | E6: Kompl.čin. | F6: Ost. náklady | G6: Cena
A7: SO 01 Altánok | B7: ='SO 14314'!I124-Rekapitulácia!D7 -> 0 | C7: ='Kryci_list 14314'!J26 -> 0 | D7: 0 | E7: ='Kryci_list 14314'!J17 -> 0 | F7: 0 | G7: =B7+C7+D7+E7+F7 -> 0 | K7: ='SO 14314'!K124 -> 0 | Q7: 30.126
A8: SO 02 Oprava lávky | B8: ='SO 14315'!I33-Rekapitulácia!D8 -> 0 | C8: ='Kryci_list 14315'!J26 -> 0 | D8: 0 | E8: ='Kryci_list 14315'!J17 -> 0 | F8: 0 | G8: =B8+C8+D8+E8+F8 -> 0 | K8: ='SO 14315'!K33 -> 0 | Q8: 30.126
A9: Celkom bez DPH | B9: =SUM(B7:B8) -> 0 | C9: =SUM(C7:C8) -> 0 | D9: =SUM(D7:D8) -> 0 | E9: =SUM(E7:E8) -> 0 | F9: =SUM(F7:F8) -> 0 | G9: =SUM(G7:G8)-SUM(Z7:Z8) -> 0
A10: DPH 20% z | B10: =G9-SUM(Rekapitulácia!K7:'Rekapitulácia'!K8)*1 -> 0 | G10: =ROUND(((ROUND(B10,2)*20)/100),2)*1 -> 0
A11: DPH 0% z | B11: =(G9-B10) -> 0 | G11: =ROUND(((ROUND(B11,2)*0)/100),2) -> 0
A12: Celkom v EUR | G12: =SUM(G9:G11) -> 0

Sheet Krycí list stavby
F1: Krycí list stavby | W1: 30.126
B2: Stavba Rekonštrukcia turistickej infraštruktúry pri rieke Topľa
I3: Miesto:
I4: Ks:
B5: Zákazka: | F5: Spracoval: Ing. Ján Halgaš | I5: Dňa | J5: 13.09.2019
B6: Odberateľ: Gréckokatolícka cirkev, farnosť Nižný Hrabovec
B7: IČO: | G7: DIČ:
B8: Projektant: Ing. Jozef Gajdoš - MEP
B9: IČO: | G9: DIČ:
B10: Dodávateľ:
B11: IČO: | G11: DIČ:
B15: A | C15: ZRN | D15: Montáž | E15: Materiál | F15: ZRN spolu | G15: B | H15: Ďalšie náklady
B16: 1 | C16: HSV | D16: ='Kryci_list 14314'!D16+'Kryci_list 14315'!D16 -> 0 | E16: ='Kryci_list 14314'!E16+'Kryci_list 14315'!E16 -> 0 | F16: ='Kryci_list 14314'!F16+'Kryci_list 14315'!F16 -> 0 | G16: 6 | H16: Ostatné náklady | J16: =Rekapitulácia!F9 -> 0
B17: 2 | C17: PSV | D17: ='Kryci_list 14314'!D17+'Kryci_list 14315'!D17 -> 0 | E17: ='Kryci_list 14314'!E17+'Kryci_list 14315'!E17 -> 0 | F17: ='Kryci_list 14314'!F17+'Kryci_list 14315'!F17 -> 0 | G17: 7 | H17: Kompletačná činnosť | J17: =Rekapitulácia!E9 -> 0
B18: 3 | C18: MONT | D18: ='Kryci_list 14314'!D18+'Kryci_list 14315'!D18 -> 0 | E18: ='Kryci_list 14314'!E18+'Kryci_list 14315'!E18 -> 0 | F18: ='Kryci_list 14314'!F18+'Kryci_list 14315'!F18 -> 0 | G18: 8 | H18: HZS | J18: =Rekapitulácia!D9 -> 0
B19: 4 | G19: 9
B20: 5 | C20: Spolu | F20: =SUM(F16:F19) -> 0 | G20: 10 | H20: Spolu | J20: =SUM(J16:J19) -> 0
B21: C | C21: VRN | G21: D | H21: VRN
B22: 11 | C22: Zariadenie staveniska | F22: ='Kryci_list 14314'!F22+'Kryci_list 14315'!F22 -> 0 | G22: 16 | H22: Sťažené podmienky dopravy | J22: ='Kryci_list 14314'!J22+'Kryci_list 14315'!J22 -> 0
B23: 12 | C23: Sťažené výrobné podmienky | F23: ='Kryci_list 14314'!F23+'Kryci_list 14315'!F23 -> 0 | G23: 17 | H23: Horské oblasti | J23: ='Kryci_list 14314'!J23+'Kryci_list 14315'!J23 -> 0
B24: 13 | C24: Prevádzkové vplyvy | F24: ='Kryci_list 14314'!F24+'Kryci_list 14315'!F24 -> 0 | G24: 18 | H24: Mimostavenisková doprava | J24: ='Kryci_list 14314'!J24+'Kryci_list 14315'!J24 -> 0
B25: 14 | G25: 19
B26: 15 | G26: 20 | H26: Spolu | J26: =SUM(J22:J25)+SUM(F22:F25) -> 0
C27: Projektant,rozpočtár | G27: E | H27: Celkové náklady
G28: 21 | H28: Súčet riadkov 5,10,15,20 | J28: =F20+J20+F26+J26 -> 0
G29: 22 | H29: DPH 20% z | I29: =Rekapitulácia!B10 -> 0 | J29: =ROUND(((ROUND(I29,2)*20)/100),2)*1 -> 0
G30: 23 | H30: DPH 0% z | I30: =Rekapitulácia!B11 -> 0 | J30: =ROUND(((ROUND(I30,2)*0)/100),2) -> 0
G31: 24 | H31: Spolu v EUR | J31: =SUM(J28:J30) -> 0
G32: F
D33: Odberateľ | H33: Dodávateľ

Sheet Kryci_list 14314
F1: Krycí list rozpočtu | W1: 30.126
B2: Stavba Rekonštrukcia turistickej infraštruktúry pri rieke Topľa
B3: Objekt SO 01 Altánok | I3: Miesto:
I4: Ks:
B5: Zákazka: | F5: Spracoval: Ing. Ján Halgaš | I5: Dňa | J5: 13.09.2019
B6: Odberateľ: Gréckokatolícka cirkev, farnosť Nižný Hrabovec
B7: IČO: | G7: DIČ:
B8: Projektant: Ing. Jozef Gajdoš - MEP
B9: IČO: | G9: DIČ:
B10: Dodávateľ:
B11: IČO: | G11: DIČ:
B15: A | C15: ZRN | D15: Montáž | E15: Materiál | F15: ZRN spolu | G15: B | H15: Ďalšie náklady
B16: 1 | C16: HSV | D16: ='Rekap 14314'!B20 -> 0 | E16: ='Rekap 14314'!C20 -> 0 | F16: ='Rekap 14314'!D20 -> 0 | G16: 6 | H16: Ostatné náklady | J16: 0
B17: 2 | C17: PSV | D17: ='Rekap 14314'!B29 -> 0 | E17: ='Rekap 14314'!C29 -> 0 | F17: ='Rekap 14314'!D29 -> 0 | G17: 7 | H17: Kompletačná činnosť | J17: ='SO 14314'!Z124 -> 0
B18: 3 | C18: MONT | G18: 8 | H18: HZS | J18: 0
B19: 4 | G19: 9
B20: 5 | C20: Spolu | F20: =SUM(F16:F19) -> 0 | G20: 10 | H20: Spolu | J20: =SUM(J16:J19) -> 0
B21: C | C21: VRN | G21: D | H21: VRN
B22: 11 | C22: Zariadenie staveniska | E22: 0% z [H+P+M] | F22: =((F16*U22*0)+(F17*V22*0)+(F18*W22*0))/100 -> 0 | G22: 16 | H22: Sťažené podmienky dopravy | I22: 0% z [H+P+M] | J22: =((F16*X22*0)+(F17*Y22*0)+(F18*Z22*0))/100 -> 0 | U22: 1 | V22: 1 | W22: 1 | X22: 1 | Y22: 1 | Z22: 1
B23: 12 | C23: Sťažené výrobné podmienky | E23: 0% z [H+P] | F23: =((F16*U23*0)+(F17*V23*0)+(F18*W23*0))/100 -> 0 | G23: 17 | H23: Horské oblasti | I23: 0% z [H+P+M] | J23: =((F16*X23*0)+(F17*Y23*0)+(F18*Z23*0))/100 -> 0 | U23: 1 | V23: 1 | W23: 0 | X23: 1 | Y23: 1 | Z23: 1
B24: 13 | C24: Prevádzkové vplyvy | E24: 0% z [H+P+M] | F24: =((F16*U24*0)+(F17*V24*0)+(F18*W24*0))/100 -> 0 | G24: 18 | H24: Mimostavenisková doprava | I24: 0% z [H+P] | J24: =((F16*X24*0)+(F17*Y24*0)+(F18*Z24*0))/100 -> 0 | U24: 1 | V24: 1 | W24: 1 | X24: 1 | Y24: 1 | Z24: 0
B25: 14 | G25: 19
B26: 15 | G26: 20 | H26: Spolu | J26: =SUM(J22:J25)+SUM(F22:F25) -> 0
C27: Projektant,rozpočtár | G27: E | H27: Celkové náklady
G28: 21 | H28: Súčet riadkov 5,10,15,20 | J28: =F20+J20+F26+J26 -> 0
G29: 22 | H29: DPH 20% z | I29: =J28-SUM('SO 14314'!K9:'SO 14314'!K123) -> 0 | J29: =ROUND(((ROUND(I29,2)*20)*1/100),2) -> 0
G30: 23 | H30: DPH 0% z | I30: =SUM('SO 14314'!K9:'SO 14314'!K123) -> 0 | J30: =ROUND(((ROUND(I30,2)*0)/100),2) -> 0
G31: 24 | H31: Spolu v EUR | J31: =SUM(J28:J30) -> 0
G32: F
D33: Odberateľ | G33: 26 | H33: Dodávateľ

Sheet Rekap 14314
A1: Odberateľ: Gréckokatolícka cirkev, farnosť Nižný Hrabovec | E1: Spracoval: Ing. Ján Halgaš | W1: 30.126
A2: Projektant: Ing. Jozef Gajdoš - MEP | E2: Ks:
A3: Dodávateľ: | E3: Dátum: 13.09.2019
A4: Stavba Rekonštrukcia turistickej infraštruktúry pri rieke Topľa
A5: Objekt SO 01 Altánok
A8: Prehľad rozpočtových nákladov
A9: Oddiel | B9: Montáž | C9: Materiál | D9: Spolu | E9: Hmotnosť (T) | F9: Suť (T)
A10: Práce HSV
A11: ZEMNÉ PRÁCE | B11: ='SO 14314'!L20 -> 0 | C11: ='SO 14314'!M20 -> 0 | D11: ='SO 14314'!I20 -> 0 | E11: ='SO 14314'!P20 -> 0 | F11: ='SO 14314'!S20 -> 0
A12: ZÁKLADY | B12: ='SO 14314'!L28 -> 0 | C12: ='SO 14314'!M28 -> 0 | D12: ='SO 14314'!I28 -> 0 | E12: ='SO 14314'!P28 -> 4.43 | F12: ='SO 14314'!S28 -> 21.35
A13: ZVISLÉ KONŠTRUKCIE | B13: ='SO 14314'!L35 -> 0 | C13: ='SO 14314'!M35 -> 0 | D13: ='SO 14314'!I35 -> 0 | E13: ='SO 14314'!P35 -> 1.02 | F13: ='SO 14314'!S35 -> 0.22
A14: VODOROVNÉ KONŠTRUKCIE | B14: ='SO 14314'!L40 -> 0 | C14: ='SO 14314'!M40 -> 0 | D14: ='SO 14314'!I40 -> 0 | E14: ='SO 14314'!P40 -> 2.08 | F14: ='SO 14314'!S40 -> 1.58
A15: SPEVNENÉ PLOCHY | B15: ='SO 14314'!L46 -> 0 | C15: ='SO 14314'!M46 -> 0 | D15: ='SO 14314'!I46 -> 0 | E15: ='SO 14314'!P46 -> 0 | F15: ='SO 14314'!S46 -> 0
A16: POVRCHOVÉ ÚPRAVY | B16: ='SO 14314'!L53 -> 0 | C16: ='SO 14314'!M53 -> 0 | D16: ='SO 14314'!I53 -> 0 | E16: ='SO 14314'!P53 -> 3.04 | F16: ='SO 14314'!S53 -> 6.16
A17: POTRUBNÉ ROZVODY | B17: ='SO 14314'!L57 -> 0 | C17: ='SO 14314'!M57 -> 0 | D17: ='SO 14314'!I57 -> 0 | E17: ='SO 14314'!P57 -> 0 | F17: ='SO 14314'!S57 -> 0
A18: OSTATNÉ PRÁCE | B18: ='SO 14314'!L68 -> 0 | C18: ='SO 14314'!M68 -> 0 | D18: ='SO 14314'!I68 -> 0 | E18: ='SO 14314'!P68 -> 0 | F18: ='SO 14314'!S68 -> 0
A19: PRESUNY HMÔT | B19: ='SO 14314'!L72 -> 0 | C19: ='SO 14314'!M72 -> 0 | D19: ='SO 14314'!I72 -> 0 | E19: ='SO 14314'!P72 -> 0 | F19: ='SO 14314'!S72 -> 0
A20: Práce HSV | B20: ='SO 14314'!L74 -> 0 | C20: ='SO 14314'!M74 -> 0 | D20: ='SO 14314'!I74 -> 0 | E20: ='SO 14314'!P74 -> 10.57 | F20: ='SO 14314'!S74 -> 29.31
A22: Práce PSV
A23: ZTI-VNÚTORNA KANALIZÁCIA | B23: ='SO 14314'!L80 -> 0 | C23: ='SO 14314'!M80 -> 0 | D23: ='SO 14314'!I80 -> 0 | E23: ='SO 14314'!P80 -> 0 | F23: ='SO 14314'!S80 -> 0.01
A24: KONŠTRUKCIE TESÁRSKE | B24: ='SO 14314'!L94 -> 0 | C24: ='SO 14314'!M94 -> 0 | D24: ='SO 14314'!I94 -> 0 | E24: ='SO 14314'!P94 -> 0.02 | F24: ='SO 14314'!S94 -> 0.09
A25: KONŠTRUKCIE KLAMPIARSKE | B25: ='SO 14314'!L103 -> 0 | C25: ='SO 14314'!M103 -> 0 | D25: ='SO 14314'!I103 -> 0 | E25: ='SO 14314'!P103 -> 0 | F25: ='SO 14314'!S103 -> 0.01
A26: KONŠTRUKCIE STOLÁRSKE | B26: ='SO 14314'!L109 -> 0 | C26: ='SO 14314'!M109 -> 0 | D26: ='SO 14314'!I109 -> 0 | E26: ='SO 14314'!P109 -> 0 | F26: ='SO 14314'!S109 -> 0
A27: KOVOVÉ DOPLNKOVÉ KONŠTRUKCIE | B27: ='SO 14314'!L117 -> 0 | C27: ='SO 14314'!M117 -> 0 | D27: ='SO 14314'!I117 -> 0 | E27: ='SO 14314'!P117 -> 0 | F27: ='SO 14314'!S117 -> 0.05
A28: NÁTERY | B28: ='SO 14314'!L121 -> 0 | C28: ='SO 14314'!M121 -> 0 | D28: ='SO 14314'!I121 -> 0 | E28: ='SO 14314'!P121 -> 0 | F28: ='SO 14314'!S121 -> 0
A29: Práce PSV | B29: ='SO 14314'!L123 -> 0 | C29: ='SO 14314'!M123 -> 0 | D29: ='SO 14314'!I123 -> 0 | E29: ='SO 14314'!S123 -> 0.16 | F29: ='SO 14314'!V123 -> 0
A31: Celkom v EUR | B31: ='SO 14314'!L124 -> 0 | C31: ='SO 14314'!M124 -> 0 | D31: ='SO 14314'!I124 -> 0 | E31: ='SO 14314'!S124 -> 29.47 | F31: ='SO 14314'!V124 -> 0

Sheet SO 14314
B1: Odberateľ: Gréckokatolícka cirkev, farnosť Nižný Hrabovec | I1: Spracoval: Ing. Ján Halgaš | W1: 30.126
B2: Projektant: Ing. Jozef Gajdoš - MEP | I2: Ks:
B3: Dodávateľ: | I3: Dátum: 13.09.2019
B4: Zákazka Rekonštrukcia turistickej infraštruktúry pri rieke Topľa
B5: Objekt SO 01 Altánok
B7: Prehľad rozpočtových nákladov
A8: Por.č. | B8: Cenník | C8: Kód položky | D8: Názov | E8: Mj | F8: Množstvo | G8: Cena/Mj | H8: Materiál | I8: Cena celkom | P8: Hmotnosť/Mj | S8: Hmotnosť | V8: Suť
D9: Práce HSV
D10: ZEMNÉ PRÁCE
B11: 1/A 1 | C11: 131211101 | D11: Hĺbenie jám v hornine tr.3 súdržných - ručným náradím | E11: m3 | F11: 0.608 | I11: =ROUND(F11*(G11+H11),2) -> 0 | J11: =ROUND(F11*(N11),2) -> 28.54 | K11: =ROUND(F11*(O11),2) -> 0 | L11: =ROUND(F11*(G11),2) -> 0 | N11: 46.94 | Z11: 0
B12: 1/A 1 | C12: 131211119 | D12: Príplatok za lepivosť pri hĺbení jám ručným náradím v hornine tr. 3 | E12: m3 | F12: 0.608 | I12: =ROUND(F12*(G12+H12),2) -> 0 | J12: =ROUND(F12*(N12),2) -> 5.72 | K12: =ROUND(F12*(O12),2) -> 0 | L12: =ROUND(F12*(G12),2) -> 0 | N12: 9.4 | Z12: 0
B13: 1/A 1 | C13: 132201101 | D13: Výkop ryhy do šírky 600 mm v horn.3 do 100 m3 | E13: m3 | F13: 10.581 | I13: =ROUND(F13*(G13+H13),2) -> 0 | J13: =ROUND(F13*(N13),2) -> 280.08 | K13: =ROUND(F13*(O13),2) -> 0 | L13: =ROUND(F13*(G13),2) -> 0 | N13: 26.47 | Z13: 0
B14: 1/A 1 | C14: 132201109 | D14: Príplatok k cene za lepivosť pri hĺbení rýh šírky do 600 mm zapažených i nezapažených s urovnaním dna v hornine 3 | E14: m3 | F14: 5.291 | I14: =ROUND(F14*(G14+H14),2) -> 0 | J14: =ROUND(F14*(N14),2) -> 39.68 | K14: =ROUND(F14*(O14),2) -> 0 | L14: =ROUND(F14*(G14),2) -> 0 | N14: 7.5 | Z14: 0
B15: 1/A 1 | C15: 162201101 | D15: Vodorovné premiestnenie výkopku z horniny 1-4 do 20m | E15: m3 | F15: 11.189 | I15: =ROUND(F15*(G15+H15),2) -> 0 | J15: =ROUND(F15*(N15),2) -> 13.2 | K15: =ROUND(F15*(O15),2) -> 0 | L15: =ROUND(F15*(G15),2) -> 0 | N15: 1.18 | Z15: 0
B16: 1/A 1 | C16: 162201102 | D16: Vodorovné premiestnenie výkopku z horniny 1-4 nad 20-50m | E16: m3 | F16: 11.189 | I16: =ROUND(F16*(G16+H16),2) -> 0 | J16: =ROUND(F16*(N16),2) -> 15.78 | K16: =ROUND(F16*(O16),2) -> 0 | L16: =ROUND(F16*(G16),2) -> 0 | N16: 1.41 | Z16: 0
B17: 1/A 1 | C17: 162501102 | D17: Vodorovné premiestnenie výkopku po spevnenej ceste z horniny tr.1-4, do 100 m3 na vzdialenosť do 3000 m | E17: m3 | F17: 11.189 | I17: =ROUND(F17*(G17+H17),2) -> 0 | J17: =ROUND(F17*(N17),2) -> 40.28 | K17: =ROUND(F17*(O17),2) -> 0 | L17: =ROUND(F17*(G17),2) -> 0 | N17: 3.6 | Z17: 0
B18: 1/A 1 | C18: 171201201 | D18: Uloženie sypaniny na skládky do 100 m3 | E18: m3 | F18: 11.189 | I18: =ROUND(F18*(G18+H18),2) -> 0 | J18: =ROUND(F18*(N18),2) -> 7.38 | K18: =ROUND(F18*(O18),2) -> 0 | L18: =ROUND(F18*(G18),2) -> 0 | N18: 0.66 | Z18: 0
B19: 1/A 1 | C19: 175101102 | D19: Obsyp potrubia sypaninou z vhodných hornín 1 až 4 s prehodením sypaniny | E19: m3 | F19: 1.32 | I19: =ROUND(F19*(G19+H19),2) -> 0 | J19: =ROUND(F19*(N19),2) -> 29.29 | K19: =ROUND(F19*(O19),2) -> 0 | L19: =ROUND(F19*(G19),2) -> 0 | N19: 22.19 | Z19: 0
D20: ZEMNÉ PRÁCE | H20: =ROUND((SUM(M10:M19))/1,2) -> 0 | I20: =ROUND((SUM(I10:I19))/1,2) -> 0 | L20: =ROUND((SUM(L10:L19))/1,2) -> 0 | M20: =ROUND((SUM(M10:M19))/1,2) -> 0 | P20: =ROUND((SUM(P10:P19))/1,2) -> 0 | S20: =ROUND((SUM(S10:S19))/1,2) -> 0
D22: ZÁKLADY
B23: 2/A 1 | C23: 271571111 | D23: Vankúše zhutnené pod základy zo štrkopiesku | E23: m3 | F23: 1.764 | I23: =ROUND(F23*(G23+H23),2) -> 0 | J23: =ROUND(F23*(N23),2) -> 58.26 | K23: =ROUND(F23*(O23),2) -> 0 | L23: =ROUND(F23*(G23),2) -> 0 | N23: 33.03 | P23: 2.0664 | R23: 2.0664 | S23: =ROUND(F23*(R23),3) -> 3.645 | Z23: 0
B24: 11/A 1 | C24: 274313911 | D24: Betón základových pásov, prostý tr. C 35/45 | E24: m3 | F24: 7.497 | I24: =ROUND(F24*(G24+H24),2) -> 0 | J24: =ROUND(F24*(N24),2) -> 741.83 | K24: =ROUND(F24*(O24),2) -> 0 | L24: =ROUND(F24*(G24),2) -> 0 | N24: 98.95 | P24: 2.36188 | R24: 2.36188 | S24: =ROUND(F24*(R24),3) -> 17.707 | Z24: 0
B25: K | C25: 274313919 | D25: Betón odtokovej šachty, prostý tr. C 35/45 | E25: m3 | F25: 0.552 | I25: =ROUND(F25*(G25+H25),2) -> 0 | J25: =ROUND(F25*(N25),2) -> 54.62 | K25: =ROUND(F25*(O25),2) -> 0 | L25: =ROUND(F25*(G25),2) -> 0 | N25: 98.95 | Z25: 0
B26: 2/A 1 | C26: 289971212 | D26: Zhotovenie vrstvy z geotextílie na upravenom povrchu | E26: m2 | F26: 21.22 | I26: =ROUND(F26*(G26+H26),2) -> 0 | J26: =ROUND(F26*(N26),2) -> 9.12 | K26: =ROUND(F26*(O26),2) -> 0 | L26: =ROUND(F26*(G26),2) -> 0 | N26: 0.43 | P26: 3e-05 | R26: 3e-05 | S26: =ROUND(F26*(R26),3) -> 0.001 | Z26: 0
B27: M | C27: 693110001200 | D27: Geotextília polypropylénová 300g/m3 , hrúbka 3 mm | E27: m2 | F27: 21.644 | I27: =ROUND(F27*(G27+H27),2) -> 0 | J27: =ROUND(F27*(N27),2) -> 19.91 | K27: =ROUND(F27*(O27),2) -> 0 | L27: =ROUND(F27*(G27),2) -> 0 | N27: 0.92 | Z27: 0
D28: ZÁKLADY | H28: =ROUND((SUM(M22:M27))/1,2) -> 0 | I28: =ROUND((SUM(I22:I27))/1,2) -> 0 | L28: =ROUND((SUM(L22:L27))/1,2) -> 0 | M28: =ROUND((SUM(M22:M27))/1,2) -> 0 | P28: =ROUND((SUM(P22:P27))/1,2) -> 4.43 | S28: =ROUND((SUM(S22:S27))/1,2) -> 21.35
D30: ZVISLÉ KONŠTRUKCIE
B31: K | C31: 311311953 | D31: Betón nadzákladových múrov vodostavebný tr. C 35/45 - pohľadový | E31: m3 | F31: 2.352 | I31: =ROUND(F31*(G31+H31),2) -> 0 | J31: =ROUND(F31*(N31),2) -> 263.17 | K31: =ROUND(F31*(O31),2) -> 0 | L31: =ROUND(F31*(G31),2) -> 0 | N31: 111.89 | Z31: 0
B32: 11/A 1 | C32: 311351105 | D32: Debnenie nadzákladových múrov obojstranné zhotovenie-dielce | E32: m2 | F32: 15.68 | I32: =ROUND(F32*(G32+H32),2) -> 0 | J32: =ROUND(F32*(N32),2) -> 237.87 | K32: =ROUND(F32*(O32),2) -> 0 | L32: =ROUND(F32*(G32),2) -> 0 | N32: 15.17 | P32: 0.00216 | R32: 0.00216 | S32: =ROUND(F32*(R32),3) -> 0.034 | Z32: 0
B33: 11/A 1 | C33: 311351106 | D33: Debnenie nadzákladových múrov obojstranné odstránenie-dielce | E33: m2 | F33: 15.68 | I33: =ROUND(F33*(G33+H33),2) -> 0 | J33: =ROUND(F33*(N33),2) -> 71.66 | K33: =ROUND(F33*(O33),2) -> 0 | L33: =ROUND(F33*(G33),2) -> 0 | N33: 4.57 | Z33: 0
B34: 11/A 1 | C34: 311361821 | D34: Výstuž nadzákladových múrov 10505 | E34: t | F34: 0.178 | I34: =ROUND(F34*(G34+H34),2) -> 0 | J34: =ROUND(F34*(N34),2) -> 304.79 | K34: =ROUND(F34*(O34),2) -> 0 | L34: =ROUND(F34*(G34),2) -> 0 | N34: 1712.32 | P34: 1.01561 | R34: 1.01561 | S34: =ROUND(F34*(R34),3) -> 0.181 | Z34: 0
D35: ZVISLÉ KONŠTRUKCIE | H35: =ROUND((SUM(M30:M34))/1,2) -> 0 | I35: =ROUND((SUM(I30:I34))/1,2) -> 0 | L35: =ROUND((SUM(L30:L34))/1,2) -> 0 | M35: =ROUND((SUM(M30:M34))/1,2) -> 0 | P35: =ROUND((SUM(P30:P34))/1,2) -> 1.02 | S35: =ROUND((SUM(S30:S34))/1,2) -> 0.22
D37: VODOROVNÉ KONŠTRUKCIE
B38: 221/A 1 | C38: 451317777 | D38: Podklad pod dlažbu vodorovne alebo v sklone do 1:5 hr. 50-100mm z bet. tr. C 8/10 | E38: m2 | F38: 4.95 | I38: =ROUND(F38*(G38+H38),2) -> 0 | J38: =ROUND(F38*(N38),2) -> 31.23 | K38: =ROUND(F38*(O38),2) -> 0 | L38: =ROUND(F38*(G38),2) -> 0 | N38: 6.31 | P38: 0.18547 | R38: 0.18547 | S38: =ROUND(F38*(R38),3) -> 0.918 | Z38: 0
B39: 271/A 1 | C39: 451573111 | D39: Lôžko pod potrubie, stoky a drobné objekty, v otvorenom výkope z piesku a štrkopiesku do 63 mm | E39: m3 | F39: 0.35 | I39: =ROUND(F39*(G39+H39),2) -> 0 | J39: =ROUND(F39*(N39),2) -> 11.49 | K39: =ROUND(F39*(O39),2) -> 0 | L39: =ROUND(F39*(G39),2) -> 0 | N39: 32.84 | P39: 1.89077 | R39: 1.89077 | S39: =ROUND(F39*(R39),3) -> 0.662 | Z39: 0
D40: VODOROVNÉ KONŠTRUKCIE | H40: =ROUND((SUM(M37:M39))/1,2) -> 0 | I40: =ROUND((SUM(I37:I39))/1,2) -> 0 | L40: =ROUND((SUM(L37:L39))/1,2) -> 0 | M40: =ROUND((SUM(M37:M39))/1,2) -> 0 | P40: =ROUND((SUM(P37:P39))/1,2) -> 2.08 | S40: =ROUND((SUM(S37:S39))/1,2) -> 1.58
D42: SPEVNENÉ PLOCHY
B43: K | C43: 564760211 | D43: Podklad alebo kryt z kameniva hrubého drveného veľ. 16-32 mm s rozprestretím a zhutnením hr. 200 mm | E43: m2 | F43: 4.95 | I43: =ROUND(F43*(G43+H43),2) -> 0 | J43: =ROUND(F43*(N43),2) -> 37.92 | K43: =ROUND(F43*(O43),2) -> 0 | L43: =ROUND(F43*(G43),2) -> 0 | N43: 7.66 | Z43: 0
B44: K | C44: 596811310 | D44: Kladenie betónovej dlažby s vyplnením škár | E44: m2 | F44: 4.95 | I44: =ROUND(F44*(G44+H44),2) -> 0 | J44: =ROUND(F44*(N44),2) -> 63.81 | K44: =ROUND(F44*(O44),2) -> 0 | L44: =ROUND(F44*(G44),2) -> 0 | N44: 12.89 | Z44: 0
B45: M | C45: 592460014504 | D45: Dlažba betónová, rozmer 500x500x80 mm, sivá | E45: ks | F45: 20 | I45: =ROUND(F45*(G45+H45),2) -> 0 | J45: =ROUND(F45*(N45),2) -> 76.2 | K45: =ROUND(F45*(O45),2) -> 0 | L45: =ROUND(F45*(G45),2) -> 0 | N45: 3.81 | Z45: 0
D46: SPEVNENÉ PLOCHY | H46: =ROUND((SUM(M42:M45))/1,2) -> 0 | I46: =ROUND((SUM(I42:I45))/1,2) -> 0 | L46: =ROUND((SUM(L42:L45))/1,2) -> 0 | M46: =ROUND((SUM(M42:M45))/1,2) -> 0 | P46: =ROUND((SUM(P42:P45))/1,2) -> 0 | S46: =ROUND((SUM(S42:S45))/1,2) -> 0
D48: POVRCHOVÉ ÚPRAVY
B49: K | C49: 631312911 | D49: Podkladný betón z betónu chemicky odolného (m3) tr. C 35/45 hr. 50 mm | E49: m3 | F49: 1.061 | I49: =ROUND(F49*(G49+H49),2) -> 0 | J49: =ROUND(F49*(N49),2) -> 128.93 | K49: =ROUND(F49*(O49),2) -> 0 | L49: =ROUND(F49*(G49),2) -> 0 | N49: 121.52 | Z49: 0
B50: K | C50: 631315911 | D50: Mazanina z betónu vodostavebného (m3) tr. C 35/45 hr. 150 mm | E50: m3 | F50: 3.183 | I50: =ROUND(F50*(G50+H50),2) -> 0 | J50: =ROUND(F50*(N50),2) -> 351.4 | K50: =ROUND(F50*(O50),2) -> 0 | L50: =ROUND(F50*(G50),2) -> 0 | N50: 110.4 | Z50: 0
B51: 11/A 1 | C51: 631362021 | D51: Výstuž mazanín z betónov (z kameniva) a z ľahkých betónov zo zváraných sietí z drôtov typu KARI | E51: t | F51: 0.257 | I51: =ROUND(F51*(G51+H51),2) -> 0 | J51: =ROUND(F51*(N51),2) -> 312.06 | K51: =ROUND(F51*(O51),2) -> 0 | L51: =ROUND(F51*(G51),2) -> 0 | N51: 1214.24 | P51: 1.20296 | R51: 1.20296 | S51: =ROUND(F51*(R51),3) -> 0.309 | Z51: 0
B52: 11/A 1 | C52: 631571003 | D52: Násyp zo štrkopiesku 0-32 (pre spevnenie podkladu) | E52: m3 | F52: 3.183 | I52: =ROUND(F52*(G52+H52),2) -> 0 | J52: =ROUND(F52*(N52),2) -> 138.43 | K52: =ROUND(F52*(O52),2) -> 0 | L52: =ROUND(F52*(G52),2) -> 0 | N52: 43.49 | P52: 1.837 | R52: 1.837 | S52: =ROUND(F52*(R52),3) -> 5.847 | Z52: 0
D53: POVRCHOVÉ ÚPRAVY | H53: =ROUND((SUM(M48:M52))/1,2) -> 0 | I53: =ROUND((SUM(I48:I52))/1,2) -> 0 | L53: =ROUND((SUM(L48:L52))/1,2) -> 0 | M53: =ROUND((SUM(M48:M52))/1,2) -> 0 | P53: =ROUND((SUM(P48:P52))/1,2) -> 3.04 | S53: =ROUND((SUM(S48:S52))/1,2) -> 6.16
D55: POTRUBNÉ ROZVODY
B56: K | C56: 899202117 | D56: D+M liatinového roštu 600x600 mm vrátane rámu | E56: ks | F56: 1 | I56: =ROUND(F56*(G56+H56),2) -> 0 | J56: =ROUND(F56*(N56),2) -> 168.3 | K56: =ROUND(F56*(O56),2) -> 0 | L56: =ROUND(F56*(G56),2) -> 0 | N56: 168.3 | Z56: 0
D57: POTRUBNÉ ROZVODY | H57: =ROUND((SUM(M55:M56))/1,2) -> 0 | I57: =ROUND((SUM(I55:I56))/1,2) -> 0 | L57: =ROUND((SUM(L55:L56))/1,2) -> 0 | M57: =ROUND((SUM(M55:M56))/1,2) -> 0 | P57: =ROUND((SUM(P55:P56))/1,2) -> 0 | S57: =ROUND((SUM(S55:S56))/1,2) -> 0
D59: OSTATNÉ PRÁCE
B60: 13/B 1 | C60: 961043111 | D60: Búranie základov z betónu prostého -2,20000t | E60: m3 | F60: 4.159 | I60: =ROUND(F60*(G60+H60),2) -> 0 | J60: =ROUND(F60*(N60),2) -> 271.17 | K60: =ROUND(F60*(O60),2) -> 0 | L60: =ROUND(F60*(G60),2) -> 0 | N60: 65.2 | Z60: 0
B61: 13/B 1 | C61: 962042321 | D61: Búranie muriva alebo vybúranie otvorov plochy nad 4 m2 z betónu prostého nadzákladného, -2,20000t | E61: m3 | F61: 1.155 | I61: =ROUND(F61*(G61+H61),2) -> 0 | J61: =ROUND(F61*(N61),2) -> 76 | K61: =ROUND(F61*(O61),2) -> 0 | L61: =ROUND(F61*(G61),2) -> 0 | N61: 65.8 | Z61: 0
B62: 13/B 1 | C62: 965043441 | D62: Búranie podkladov a mazanín z betónu hr.do 150 mm -2,20000t | E62: m3 | F62: 1.56 | I62: =ROUND(F62*(G62+H62),2) -> 0 | J62: =ROUND(F62*(N62),2) -> 100.68 | K62: =ROUND(F62*(O62),2) -> 0 | L62: =ROUND(F62*(G62),2) -> 0 | N62: 64.54 | Z62: 0
B63: 13/B 1 | C63: 979081111 | D63: Odvoz sutiny a vybúraných hmôt na skládku do 1 km | E63: t | F63: 15.235 | I63: =ROUND(F63*(G63+H63),2) -> 0 | J63: =ROUND(F63*(N63),2) -> 169.11 | K63: =ROUND(F63*(O63),2) -> 0 | L63: =ROUND(F63*(G63),2) -> 0 | N63: 11.1 | Z63: 0
B64: 13/B 1 | C64: 979081121 | D64: Odvoz sutiny a vybúraných hmôt na skládku za každý ďalší 1 km | E64: t | F64: 304.7 | I64: =ROUND(F64*(G64+H64),2) -> 0 | J64: =ROUND(F64*(N64),2) -> 106.65 | K64: =ROUND(F64*(O64),2) -> 0 | L64: =ROUND(F64*(G64),2) -> 0 | N64: 0.35 | Z64: 0
B65: 13/B 1 | C65: 979082111 | D65: Vnútrostavenisková doprava sutiny a vybúraných hmôt do 10 m | E65: t | F65: 15.235 | I65: =ROUND(F65*(G65+H65),2) -> 0 | J65: =ROUND(F65*(N65),2) -> 130.72 | K65: =ROUND(F65*(O65),2) -> 0 | L65: =ROUND(F65*(G65),2) -> 0 | N65: 8.58 | Z65: 0
B66: 13/B 1 | C66: 979082121 | D66: Vnútrostavenisková doprava sutiny a vybúraných hmôt za každých ďalších 5 m | E66: t | F66: 30.47 | I66: =ROUND(F66*(G66+H66),2) -> 0 | J66: =ROUND(F66*(N66),2) -> 29.25 | K66: =ROUND(F66*(O66),2) -> 0 | L66: =ROUND(F66*(G66),2) -> 0 | N66: 0.96 | Z66: 0
B67: 13/B 1 | C67: 979089012 | D67: Poplatok za skladovanie - betón, tehly, dlaždice (17 01) ostatné | E67: t | F67: 15.235 | I67: =ROUND(F67*(G67+H67),2) -> 0 | J67: =ROUND(F67*(N67),2) -> 198.06 | K67: =ROUND(F67*(O67),2) -> 0 | L67: =ROUND(F67*(G67),2) -> 0 | N67: 13 | Z67: 0
D68: OSTATNÉ PRÁCE | H68: =ROUND((SUM(M59:M67))/1,2) -> 0 | I68: =ROUND((SUM(I59:I67))/1,2) -> 0 | L68: =ROUND((SUM(L59:L67))/1,2) -> 0 | M68: =ROUND((SUM(M59:M67))/1,2) -> 0 | P68: =ROUND((SUM(P59:P67))/1,2) -> 0 | S68: =ROUND((SUM(S59:S67))/1,2) -> 0
D70: PRESUNY HMÔT
B71: 11/A 1 | C71: 998011001 | D71: Presun hmôt | E71: t | F71: 49.392 | I71: =ROUND(F71*(G71+H71),2) -> 0 | J71: =ROUND(F71*(N71),2) -> 633.7 | K71: =ROUND(F71*(O71),2) -> 0 | L71: =ROUND(F71*(G71),2) -> 0 | N71: 12.83 | Z71: 0
D72: PRESUNY HMÔT | H72: =ROUND((SUM(M70:M71))/1,2) -> 0 | I72: =ROUND((SUM(I70:I71))/1,2) -> 0 | L72: =ROUND((SUM(L70:L71))/1,2) -> 0 | M72: =ROUND((SUM(M70:M71))/1,2) -> 0 | P72: =ROUND((SUM(P70:P71))/1,2) -> 0 | S72: =ROUND((SUM(S70:S71))/1,2) -> 0
D74: Práce HSV | H74: =ROUND((SUM(M9:M73))/2,2) -> 0 | I74: =ROUND((SUM(I9:I73))/2,2) -> 0 | L74: =ROUND((SUM(L9:L73))/2,2) -> 0 | M74: =ROUND((SUM(M9:M73))/2,2) -> 0 | P74: =ROUND((SUM(P9:P73))/2,2) -> 10.57 | S74: =ROUND((SUM(S9:S73))/2,2) -> 29.31
D76: Práce PSV
D77: ZTI-VNÚTORNA KANALIZÁCIA
B78: 721/A 1 | C78: 721171112 | D78: Potrubie z PVC - U odpadové ležaté hrdlové D 160x3, 9 | E78: m | F78: 4.2 | I78: =ROUND(F78*(G78+H78),2) -> 0 | J78: =ROUND(F78*(N78),2) -> 94.37 | K78: =ROUND(F78*(O78),2) -> 0 | L78: =ROUND(F78*(G78),2) -> 0 | N78: 22.47 | P78: 0.00334 | R78: 0.00334 | S78: =ROUND(F78*(R78),3) -> 0.014 | Z78: 0
B79: 721/A 1 | C79: 998721201 | D79: Presun hmôt pre vnútornú kanalizáciu v objektoch výšky do 6 m | E79: % | F79: 1 | I79: =ROUND(F79*(G79+H79),2) -> 0 | J79: =ROUND(F79*(N79),2) -> 0.95 | K79: =ROUND(F79*(O79),2) -> 0 | L79: =ROUND(F79*(G79),2) -> 0 | N79: 0.95 | Z79: 0
D80: ZTI-VNÚTORNA KANALIZÁCIA | H80: =ROUND((SUM(M77:M79))/1,2) -> 0 | I80: =ROUND((SUM(I77:I79))/1,2) -> 0 | L80: =ROUND((SUM(L77:L79))/1,2) -> 0 | M80: =ROUND((SUM(M77:M79))/1,2) -> 0 | P80: =ROUND((SUM(P77:P79))/1,2) -> 0 | S80: =ROUND((SUM(S77:S79))/1,2) -> 0.01
D82: KONŠTRUKCIE TESÁRSKE
B83: 762/A 1 | C83: 762332120 | D83: Montáž viazaných konštrukcií krovov striech z reziva priemernej plochy 120-224 cm2 | E83: m | F83: 54.6 | I83: =ROUND(F83*(G83+H83),2) -> 0 | J83: =ROUND(F83*(N83),2) -> 345.62 | K83: =ROUND(F83*(O83),2) -> 0 | L83: =ROUND(F83*(G83),2) -> 0 | N83: 6.33 | P83: 0.00026 | R83: 0.00026 | S83: =ROUND(F83*(R83),3) -> 0.014 | Z83: 0
B84: M | C84: 605120002904 | D84: Krokva 100x140mm hobľovaná | E84: m3 | F84: 0.836 | I84: =ROUND(F84*(G84+H84),2) -> 0 | J84: =ROUND(F84*(N84),2) -> 196.46 | K84: =ROUND(F84*(O84),2) -> 0 | L84: =ROUND(F84*(G84),2) -> 0 | N84: 235 | Z84: 0
B85: K | C85: 762341004 | D85: Montáž debnenia jednoduchých striech, na krokvy a kontralaty z dosiek na zraz | E85: m2 | F85: 44 | I85: =ROUND(F85*(G85+H85),2) -> 0 | J85: =ROUND(F85*(N85),2) -> 160.6 | K85: =ROUND(F85*(O85),2) -> 0 | L85: =ROUND(F85*(G85),2) -> 0 | N85: 3.65 | Z85: 0
B86: M | C86: 60511000290 | D86: Dosky 110/25 mm | E86: m3 | F86: 1.14 | I86: =ROUND(F86*(G86+H86),2) -> 0 | J86: =ROUND(F86*(N86),2) -> 250.8 | K86: =ROUND(F86*(O86),2) -> 0 | L86: =ROUND(F86*(G86),2) -> 0 | N86: 220 | Z86: 0
B87: K | C87: 762341017 | D87: Montáž čelových dosiek | E87: m | F87: 27.8 | I87: =ROUND(F87*(G87+H87),2) -> 0 | J87: =ROUND(F87*(N87),2) -> 81.73 | K87: =ROUND(F87*(O87),2) -> 0 | L87: =ROUND(F87*(G87),2) -> 0 | N87: 2.94 | Z87: 0
B88: M | C88: 605110002902 | D88: Dosky 110/25 mm hobľované | E88: m3 | F88: 0.03 | I88: =ROUND(F88*(G88+H88),2) -> 0 | J88: =ROUND(F88*(N88),2) -> 6.9 | K88: =ROUND(F88*(O88),2) -> 0 | L88: =ROUND(F88*(G88),2) -> 0 | N88: 230 | Z88: 0
B89: M | C89: 605110002903 | D89: Dosky 140/25 mm hobľované | E89: m3 | F89: 0.05 | I89: =ROUND(F89*(G89+H89),2) -> 0 | J89: =ROUND(F89*(N89),2) -> 11.5 | K89: =ROUND(F89*(O89),2) -> 0 | L89: =ROUND(F89*(G89),2) -> 0 | N89: 230 | Z89: 0
B90: K | C90: 762341252 | D90: Montáž kontralát pre sklon od 22° do 35° | E90: m | F90: 56 | I90: =ROUND(F90*(G90+H90),2) -> 0 | J90: =ROUND(F90*(N90),2) -> 55.44 | K90: =ROUND(F90*(O90),2) -> 0 | L90: =ROUND(F90*(G90),2) -> 0 | N90: 0.99 | Z90: 0
B91: M | C91: 605120002801 | D91: Kontralaty 50/50 mm | E91: m3 | F91: 0.14 | I91: =ROUND(F91*(G91+H91),2) -> 0 | J91: =ROUND(F91*(N91),2) -> 29.4 | K91: =ROUND(F91*(O91),2) -> 0 | L91: =ROUND(F91*(G91),2) -> 0 | N91: 210 | Z91: 0
B92: 762/A 1 | C92: 762395000 | D92: Spojovacie prostriedky pre viazané konštrukcie krovov | E92: m3 | F92: 3.21 | I92: =ROUND(F92*(G92+H92),2) -> 0 | J92: =ROUND(F92*(N92),2) -> 77.04 | K92: =ROUND(F92*(O92),2) -> 0 | L92: =ROUND(F92*(G92),2) -> 0 | N92: 24 | P92: 0.0231 | R92: 0.0231 | S92: =ROUND(F92*(R92),3) -> 0.074 | Z92: 0
B93: 762/A 1 | C93: 998762202 | D93: Presun hmôt pre konštrukcie tesárske v objektoch výšky do 12 m | E93: % | F93: 4 | I93: =ROUND(F93*(G93+H93),2) -> 0 | J93: =ROUND(F93*(N93),2) -> 48.64 | K93: =ROUND(F93*(O93),2) -> 0 | L93: =ROUND(F93*(G93),2) -> 0 | N93: 12.16 | Z93: 0
D94: KONŠTRUKCIE TESÁRSKE | H94: =ROUND((SUM(M82:M93))/1,2) -> 0 | I94: =ROUND((SUM(I82:I93))/1,2) -> 0 | L94: =ROUND((SUM(L82:L93))/1,2) -> 0 | M94: =ROUND((SUM(M82:M93))/1,2) -> 0 | P94: =ROUND((SUM(P82:P93))/1,2) -> 0.02 | S94: =ROUND((SUM(S82:S93))/1,2) -> 0.09
D96: KONŠTRUKCIE KLAMPIARSKE
B97: 764/B 1 | C97: 764311822 | D97: Demontáž krytiny hladkej strešnej z tabúľ 2000 x 1000 mm, so sklonom do 30st., -0,00732t | E97: m2 | F97: 15.08 | I97: =ROUND(F97*(G97+H97),2) -> 0 | J97: =ROUND(F97*(N97),2) -> 16.44 | K97: =ROUND(F97*(O97),2) -> 0 | L97: =ROUND(F97*(G97),2) -> 0 | N97: 1.09 | Z97: 0
B98: K | C98: 764313221 | D98: Krytiny hladké z pozinkovaného lakoplast. plechu, sklon do 30° | E98: m2 | F98: 42.84 | I98: =ROUND(F98*(G98+H98),2) -> 0 | J98: =ROUND(F98*(N98),2) -> 1240.65 | K98: =ROUND(F98*(O98),2) -> 0 | L98: =ROUND(F98*(G98),2) -> 0 | N98: 28.96 | Z98: 0
B99: K | C99: 764327220 | D99: Oplechovanie z pozinkovaného lakoplast. plechu, odkvapov na strechách s tvrdou krytinou r.š. 260 mm - K3 | E99: m | F99: 12 | I99: =ROUND(F99*(G99+H99),2) -> 0 | J99: =ROUND(F99*(N99),2) -> 143.16 | K99: =ROUND(F99*(O99),2) -> 0 | L99: =ROUND(F99*(G99),2) -> 0 | N99: 11.93 | Z99: 0
B100: K | C100: 764348401 | D100: Snehové zachytávače z pozinkovaného lakoplast. plechu | E100: m | F100: 12 | I100: =ROUND(F100*(G100+H100),2) -> 0 | J100: =ROUND(F100*(N100),2) -> 189.84 | K100: =ROUND(F100*(O100),2) -> 0 | L100: =ROUND(F100*(G100),2) -> 0 | N100: 15.82 | Z100: 0
B101: 764/A 2 | C101: 764391430 | D101: Záveterná lišta z pozinkovaného lakoplast. plechu, r.š. 202 + 190 mm - K2 | E101: m | F101: 7.2 | I101: =ROUND(F101*(G101+H101),2) -> 0 | J101: =ROUND(F101*(N101),2) -> 112.39 | K101: =ROUND(F101*(O101),2) -> 0 | L101: =ROUND(F101*(G101),2) -> 0 | N101: 15.61 | P101: 0.00069 | R101: 0.00069 | S101: =ROUND(F101*(R101),3) -> 0.005 | Z101: 0
B102: 764/A 7 | C102: 998764201 | D102: Presun hmôt pre konštrukcie klampiarske v objektoch výšky do 6 m | E102: % | F102: 1.85 | I102: =ROUND(F102*(G102+H102),2) -> 0 | J102: =ROUND(F102*(N102),2) -> 31.51 | K102: =ROUND(F102*(O102),2) -> 0 | L102: =ROUND(F102*(G102),2) -> 0 | N102: 17.03 | Z102: 0
D103: KONŠTRUKCIE KLAMPIARSKE | H103: =ROUND((SUM(M96:M102))/1,2) -> 0 | I103: =ROUND((SUM(I96:I102))/1,2) -> 0 | L103: =ROUND((SUM(L96:L102))/1,2) -> 0 | M103: =ROUND((SUM(M96:M102))/1,2) -> 0 | P103: =ROUND((SUM(P96:P102))/1,2) -> 0 | S103: =ROUND((SUM(S96:S102))/1,2) -> 0.01
D105: KONŠTRUKCIE STOLÁRSKE
B106: 766/A 1 | C106: 766411111 | D106: Montáž obloženia stien, palubovkami na pero a drážku | E106: m2 | F106: 44 | I106: =ROUND(F106*(G106+H106),2) -> 0 | J106: =ROUND(F106*(N106),2) -> 575.96 | K106: =ROUND(F106*(O106),2) -> 0 | L106: =ROUND(F106*(G106),2) -> 0 | N106: 13.09 | P106: 3e-05 | R106: 3e-05 | S106: =ROUND(F106*(R106),3) -> 0.001 | Z106: 0
B107: M | C107: 611920007100 | D107: Drevený obklad tatranský profil | E107: m2 | F107: 45.76 | I107: =ROUND(F107*(G107+H107),2) -> 0 | J107: =ROUND(F107*(N107),2) -> 458.52 | K107: =ROUND(F107*(O107),2) -> 0 | L107: =ROUND(F107*(G107),2) -> 0 | N107: 10.02 | Z107: 0
B108: 766/A 1 | C108: 998766201 | D108: Presun hmot pre konštrukcie stolárske v objektoch výšky do 6 m | E108: % | F108: 0.55 | I108: =ROUND(F108*(G108+H108),2) -> 0 | J108: =ROUND(F108*(N108),2) -> 5.69 | K108: =ROUND(F108*(O108),2) -> 0 | L108: =ROUND(F108*(G108),2) -> 0 | N108: 10.35 | Z108: 0
D109: KONŠTRUKCIE STOLÁRSKE | H109: =ROUND((SUM(M105:M108))/1,2) -> 0 | I109: =ROUND((SUM(I105:I108))/1,2) -> 0 | L109: =ROUND((SUM(L105:L108))/1,2) -> 0 | M109: =ROUND((SUM(M105:M108))/1,2) -> 0 | P109: =ROUND((SUM(P105:P108))/1,2) -> 0 | S109: =ROUND((SUM(S105:S108))/1,2) -> 0
D111: KOVOVÉ DOPLNKOVÉ KONŠTRUKCIE
B112: 767/A 3 | C112: 767995102 | D112: Montáž ostatných atypických kovových stavebných doplnkových konštrukcií nad 5 do 10 kg | E112: kg | F112: 741.57 | I112: =ROUND(F112*(G112+H112),2) -> 0 | J112: =ROUND(F112*(N112),2) -> 2439.77 | K112: =ROUND(F112*(O112),2) -> 0 | L112: =ROUND(F112*(G112),2) -> 0 | N112: 3.29 | P112: 7e-05 | R112: 7e-05 | S112: =ROUND(F112*(R112),3) -> 0.052 | Z112: 0
B113: M | C113: PC76701 | D113: Dodávka oceľovej konštrukcie vr. náteru polyuretánového 2x zákla + 2x vrchný | E113: kg | F113: 741.57 | I113: =ROUND(F113*(G113+H113),2) -> 0 | J113: =ROUND(F113*(N113),2) -> 3737.51 | K113: =ROUND(F113*(O113),2) -> 0 | L113: =ROUND(F113*(G113),2) -> 0 | N113: 5.04 | Z113: 0
B114: K | C114: 767996811 | D114: Demontáž oceľovej konštrukcie prístrešku | E114: kpl | F114: 1 | I114: =ROUND(F114*(G114+H114),2) -> 0 | J114: =ROUND(F114*(N114),2) -> 62.82 | K114: =ROUND(F114*(O114),2) -> 0 | L114: =ROUND(F114*(G114),2) -> 0 | N114: 62.82 | Z114: 0
B115: K | C115: 767996827 | D115: Demontáž liatinového roštu 600/600 mm | E115: ks | F115: 1 | I115: =ROUND(F115*(G115+H115),2) -> 0 | J115: =ROUND(F115*(N115),2) -> 7 | K115: =ROUND(F115*(O115),2) -> 0 | L115: =ROUND(F115*(G115),2) -> 0 | N115: 7 | Z115: 0
...

Sheet Kryci_list 14315
F1: Krycí list rozpočtu | W1: 30.126
B2: Stavba Rekonštrukcia turistickej infraštruktúry pri rieke Topľa
B3: Objekt SO 02 Oprava lávky | I3: Miesto:
I4: Ks:
B5: Zákazka: | F5: Spracoval: Ing. Ján Halgaš | I5: Dňa | J5: 13.09.2019
B6: Odberateľ: Gréckokatolícka cirkev, farnosť Nižný Hrabovec
B7: IČO: | G7: DIČ:
B8: Projektant: Ing. Jozef Gajdoš - MEP
B9: IČO: | G9: DIČ:
B10: Dodávateľ:
B11: IČO: | G11: DIČ:
B15: A | C15: ZRN | D15: Montáž | E15: Materiál | F15: ZRN spolu | G15: B | H15: Ďalšie náklady
B16: 1 | C16: HSV | G16: 6 | H16: Ostatné náklady | J16: 0
B17: 2 | C17: PSV | D17: ='Rekap 14315'!B13 -> 0 | E17: ='Rekap 14315'!C13 -> 0 | F17: ='Rekap 14315'!D13 -> 0 | G17: 7 | H17: Kompletačná činnosť | J17: ='SO 14315'!Z33 -> 0
B18: 3 | C18: MONT | G18: 8 | H18: HZS | J18: 0
B19: 4 | G19: 9
B20: 5 | C20: Spolu | F20: =SUM(F16:F19) -> 0 | G20: 10 | H20: Spolu | J20: =SUM(J16:J19) -> 0
B21: C | C21: VRN | G21: D | H21: VRN
B22: 11 | C22: Zariadenie staveniska | E22: 0% z [H+P+M] | F22: =((F16*U22*0)+(F17*V22*0)+(F18*W22*0))/100 -> 0 | G22: 16 | H22: Sťažené podmienky dopravy | I22: 0% z [H+P+M] | J22: =((F16*X22*0)+(F17*Y22*0)+(F18*Z22*0))/100 -> 0 | U22: 1 | V22: 1 | W22: 1 | X22: 1 | Y22: 1 | Z22: 1
B23: 12 | C23: Sťažené výrobné podmienky | E23: 0% z [H+P] | F23: =((F16*U23*0)+(F17*V23*0)+(F18*W23*0))/100 -> 0 | G23: 17 | H23: Horské oblasti | I23: 0% z [H+P+M] | J23: =((F16*X23*0)+(F17*Y23*0)+(F18*Z23*0))/100 -> 0 | U23: 1 | V23: 1 | W23: 0 | X23: 1 | Y23: 1 | Z23: 1
B24: 13 | C24: Prevádzkové vplyvy | E24: 0% z [H+P+M] | F24: =((F16*U24*0)+(F17*V24*0)+(F18*W24*0))/100 -> 0 | G24: 18 | H24: Mimostavenisková doprava | I24: 0% z [H+P] | J24: =((F16*X24*0)+(F17*Y24*0)+(F18*Z24*0))/100 -> 0 | U24: 1 | V24: 1 | W24: 1 | X24: 1 | Y24: 1 | Z24: 0
B25: 14 | G25: 19
B26: 15 | G26: 20 | H26: Spolu | J26: =SUM(J22:J25)+SUM(F22:F25) -> 0
C27: Projektant,rozpočtár | G27: E | H27: Celkové náklady
G28: 21 | H28: Súčet riadkov 5,10,15,20 | J28: =F20+J20+F26+J26 -> 0
G29: 22 | H29: DPH 20% z | I29: =J28-SUM('SO 14315'!K9:'SO 14315'!K32) -> 0 | J29: =ROUND(((ROUND(I29,2)*20)*1/100),2) -> 0
G30: 23 | H30: DPH 0% z | I30: =SUM('SO 14315'!K9:'SO 14315'!K32) -> 0 | J30: =ROUND(((ROUND(I30,2)*0)/100),2) -> 0
G31: 24 | H31: Spolu v EUR | J31: =SUM(J28:J30) -> 0
G32: F
D33: Odberateľ | G33: 26 | H33: Dodávateľ

Sheet Rekap 14315
A1: Odberateľ: Gréckokatolícka cirkev, farnosť Nižný Hrabovec | E1: Spracoval: Ing. Ján Halgaš | W1: 30.126
A2: Projektant: Ing. Jozef Gajdoš - MEP | E2: Ks:
A3: Dodávateľ: | E3: Dátum: 13.09.2019
A4: Stavba Rekonštrukcia turistickej infraštruktúry pri rieke Topľa
A5: Objekt SO 02 Oprava lávky
A8: Prehľad rozpočtových nákladov
A9: Oddiel | B9: Montáž | C9: Materiál | D9: Spolu | E9: Hmotnosť (T) | F9: Suť (T)
A10: Práce PSV
A11: KOVOVÉ DOPLNKOVÉ KONŠTRUKCIE | B11: ='SO 14315'!L23 -> 0 | C11: ='SO 14315'!M23 -> 0 | D11: ='SO 14315'!I23 -> 0 | E11: ='SO 14315'!P23 -> 0 | F11: ='SO 14315'!S23 -> 0
A12: NÁTERY | B12: ='SO 14315'!L30 -> 0 | C12: ='SO 14315'!M30 -> 0 | D12: ='SO 14315'!I30 -> 0 | E12: ='SO 14315'!P30 -> 0 | F12: ='SO 14315'!S30 -> 0.1
A13: Práce PSV | B13: ='SO 14315'!L32 -> 0 | C13: ='SO 14315'!M32 -> 0 | D13: ='SO 14315'!I32 -> 0 | E13: ='SO 14315'!S32 -> 0.1 | F13: ='SO 14315'!V32 -> 0
A15: Celkom v EUR | B15: ='SO 14315'!L33 -> 0 | C15: ='SO 14315'!M33 -> 0 | D15: ='SO 14315'!I33 -> 0 | E15: ='SO 14315'!S33 -> 0.1 | F15: ='SO 14315'!V33 -> 0

Sheet SO 14315
B1: Odberateľ: Gréckokatolícka cirkev, farnosť Nižný Hrabovec | I1: Spracoval: Ing. Ján Halgaš | W1: 30.126
B2: Projektant: Ing. Jozef Gajdoš - MEP | I2: Ks:
B3: Dodávateľ: | I3: Dátum: 13.09.2019
B4: Zákazka Rekonštrukcia turistickej infraštruktúry pri rieke Topľa
B5: Objekt SO 02 Oprava lávky
B7: Prehľad rozpočtových nákladov
A8: Por.č. | B8: Cenník | C8: Kód položky | D8: Názov | E8: Mj | F8: Množstvo | G8: Cena/Mj | H8: Materiál | I8: Cena celkom | P8: Hmotnosť/Mj | S8: Hmotnosť | V8: Suť
D9: Práce PSV
D10: KOVOVÉ DOPLNKOVÉ KONŠTRUKCIE
B11: K | C11: 7679951019 | D11: Montáž oceľových prvkov lávky podľa výpisu | E11: kg | F11: 5327.53 | I11: =ROUND(F11*(G11+H11),2) -> 0 | J11: =ROUND(F11*(N11),2) -> 11187.81 | K11: =ROUND(F11*(O11),2) -> 0 | L11: =ROUND(F11*(G11),2) -> 0 | N11: 2.1 | Z11: 0
B12: M | C12: PC76701 | D12: Podlahový nosník T80 - ozn. L1 | E12: kg | F12: 763.56 | I12: =ROUND(F12*(G12+H12),2) -> 0 | J12: =ROUND(F12*(N12),2) -> 1603.48 | K12: =ROUND(F12*(O12),2) -> 0 | L12: =ROUND(F12*(G12),2) -> 0 | N12: 2.1 | Z12: 0
B13: M | C13: PC76702 | D13: Podlahový oceľ.plech so slzič. výstupkami hr. 5mm - ozn. L2 | E13: kg | F13: 3328.68 | I13: =ROUND(F13*(G13+H13),2) -> 0 | J13: =ROUND(F13*(N13),2) -> 2263.5 | K13: =ROUND(F13*(O13),2) -> 0 | L13: =ROUND(F13*(G13),2) -> 0 | N13: 0.68 | Z13: 0
B14: M | C14: PC76703 | D14: Doplnenie tyče závesov D16 mm (vr. závit.tyče, podložky, maice) - ozn. L3 | E14: kg | F14: 72.2 | I14: =ROUND(F14*(G14+H14),2) -> 0 | J14: =ROUND(F14*(N14),2) -> 83.03 | K14: =ROUND(F14*(O14),2) -> 0 | L14: =ROUND(F14*(G14),2) -> 0 | N14: 1.15 | Z14: 0
B15: M | C15: PC76704 | D15: Horné madlo D16, vr. úložného oka, zarážky, nadstavenia yče závesov - ozn. L4 | E15: kg | F15: 196.39 | I15: =ROUND(F15*(G15+H15),2) -> 0 | J15: =ROUND(F15*(N15),2) -> 231.74 | K15: =ROUND(F15*(O15),2) -> 0 | L15: =ROUND(F15*(G15),2) -> 0 | N15: 1.18 | Z15: 0
B16: M | C16: PC76705 | D16: Priečnik zábradlia D10, vr. úložného oka a zarážky - ozn. L5 | E16: kg | F16: 228.75 | I16: =ROUND(F16*(G16+H16),2) -> 0 | J16: =ROUND(F16*(N16),2) -> 253.91 | K16: =ROUND(F16*(O16),2) -> 0 | L16: =ROUND(F16*(G16),2) -> 0 | N16: 1.11 | Z16: 0
B17: M | C17: PC76706 | D17: Kotviací prvok zábradlia 16x16 - ozn. L6 | E17: kg | F17: 10.29 | I17: =ROUND(F17*(G17+H17),2) -> 0 | J17: =ROUND(F17*(N17),2) -> 18.62 | K17: =ROUND(F17*(O17),2) -> 0 | L17: =ROUND(F17*(G17),2) -> 0 | N17: 1.81 | Z17: 0
B18: M | C18: PC76707 | D18: Oceľová poplastovaná sieťovina 30/30/3 + nerez kotviací prvok - on. L7 | E18: m2 | F18: 123.5 | I18: =ROUND(F18*(G18+H18),2) -> 0 | J18: =ROUND(F18*(N18),2) -> 384.09 | K18: =ROUND(F18*(O18),2) -> 0 | L18: =ROUND(F18*(G18),2) -> 0 | N18: 3.11 | Z18: 0
B19: M | C19: PC76708 | D19: Strieška - ozn. L8 | E19: kg | F19: 5.36 | I19: =ROUND(F19*(G19+H19),2) -> 0 | J19: =ROUND(F19*(N19),2) -> 13.72 | K19: =ROUND(F19*(O19),2) -> 0 | L19: =ROUND(F19*(G19),2) -> 0 | N19: 2.56 | Z19: 0
B20: K | C20: 7679951021 | D20: Vyrovnanie a nastavenie závesných prvkov exist. konštrukcie lávky | E20: hod | F20: 90 | I20: =ROUND(F20*(G20+H20),2) -> 0 | J20: =ROUND(F20*(N20),2) -> 900 | K20: =ROUND(F20*(O20),2) -> 0 | L20: =ROUND(F20*(G20),2) -> 0 | N20: 10 | Z20: 0
B21: K | C21: 767996807 | D21: Demontáž oceľových prvkov lávky podľa výpisu | E21: kg | F21: 4535.13 | I21: =ROUND(F21*(G21+H21),2) -> 0 | J21: =ROUND(F21*(N21),2) -> 3310.64 | K21: =ROUND(F21*(O21),2) -> 0 | L21: =ROUND(F21*(G21),2) -> 0 | N21: 0.73 | Z21: 0
B22: 767/A 3 | C22: 998767201 | D22: Presun hmôt pre kovové stavebné doplnkové konštrukcie v objektoch výšky do 6 m | E22: % | F22: 0.9 | I22: =ROUND(F22*(G22+H22),2) -> 0 | J22: =ROUND(F22*(N22),2) -> 182.26 | K22: =ROUND(F22*(O22),2) -> 0 | L22: =ROUND(F22*(G22),2) -> 0 | N22: 202.51 | Z22: 0
D23: KOVOVÉ DOPLNKOVÉ KONŠTRUKCIE | H23: =ROUND((SUM(M10:M22))/1,2) -> 0 | I23: =ROUND((SUM(I10:I22))/1,2) -> 0 | L23: =ROUND((SUM(L10:L22))/1,2) -> 0 | M23: =ROUND((SUM(M10:M22))/1,2) -> 0 | P23: =ROUND((SUM(P10:P22))/1,2) -> 0 | S23: =ROUND((SUM(S10:S22))/1,2) -> 0
D25: NÁTERY
B26: K | C26: 783201812 | D26: Odstránenie starých náterov z kovových stavebných doplnkových konštrukcií oceľovou kefou | E26: m2 | F26: 239 | I26: =ROUND(F26*(G26+H26),2) -> 0 | J26: =ROUND(F26*(N26),2) -> 437.37 | K26: =ROUND(F26*(O26),2) -> 0 | L26: =ROUND(F26*(G26),2) -> 0 | N26: 1.83 | Z26: 0
B27: 783/A 1 | C27: 783222100 | D27: Nátery kov.stav.doplnk.konštr. syntetické na vzduchu schnúce dvojnásobné | E27: m2 | F27: 433 | I27: =ROUND(F27*(G27+H27),2) -> 0 | J27: =ROUND(F27*(N27),2) -> 1796.95 | K27: =ROUND(F27*(O27),2) -> 0 | L27: =ROUND(F27*(G27),2) -> 0 | N27: 4.15 | P27: 0.00016 | R27: 0.00016 | S27: =ROUND(F27*(R27),3) -> 0.069 | Z27: 0
B28: 783/A 1 | C28: 783226100 | D28: Nátery kov.stav.doplnk.konštr. syntetické na vzduchu schnúce základný 2x | E28: m2 | F28: 433 | I28: =ROUND(F28*(G28+H28),2) -> 0 | J28: =ROUND(F28*(N28),2) -> 995.9 | K28: =ROUND(F28*(O28),2) -> 0 | L28: =ROUND(F28*(G28),2) -> 0 | N28: 2.3 | P28: 8e-05 | R28: 8e-05 | S28: =ROUND(F28*(R28),3) -> 0.035 | Z28: 0
B29: K | C29: 783903815 | D29: Otriskanie a odmastenie oceľ. nových prvkov | E29: m2 | F29: 194 | I29: =ROUND(F29*(G29+H29),2) -> 0 | J29: =ROUND(F29*(N29),2) -> 217.28 | K29: =ROUND(F29*(O29),2) -> 0 | L29: =ROUND(F29*(G29),2) -> 0 | N29: 1.12 | Z29: 0
D30: NÁTERY | I30: =ROUND((SUM(I25:I29))/1,2) -> 0 | L30: =ROUND((SUM(L25:L29))/1,2) -> 0 | M30: =ROUND((SUM(M25:M29))/1,2) -> 0 | S30: =ROUND((SUM(S25:S29))/1,2) -> 0.1 | V30: =ROUND((SUM(V25:V29))/1,2) -> 0
D32: Práce PSV | H32: =ROUND((SUM(M9:M31))/2,2) -> 0 | I32: =ROUND((SUM(I9:I31))/2,2) -> 0 | L32: =ROUND((SUM(L9:L31))/2,2) -> 0 | M32: =ROUND((SUM(M9:M31))/2,2) -> 0 | S32: =ROUND((SUM(S9:S31))/2,2) -> 0.1 | V32: =ROUND((SUM(V9:V31))/2,2) -> 0
D33: Celkom v EUR | H33: =ROUND((SUM(M9:M32))/3,2) -> 0 | I33: =ROUND((SUM(I9:I32))/3,2) -> 0 | K33: =ROUND((SUM(K9:K32))/3,2) -> 0 | L33: =ROUND((SUM(L9:L32))/3,2) -> 0 | M33: =ROUND((SUM(M9:M32))/3,2) -> 0 | S33: =ROUND((SUM(S9:S32))/3,2) -> 0.1 | V33: =ROUND((SUM(V9:V32))/3,2) -> 0 | Z33: =(SUM(Z9:Z32)) -> 0
