Workbook

Sheet Rekapitulácia
A2: Rekapitulácia rozpočtu | F2: Sadzby DPH
F3: A | G3: B
A4: Stavba Rekonštrukcia turistickej infraštruktúry pri rieke Topľa | F4: 0.2 | G4: 0
A6: Názov objektu | B6: ZRN | C6: VRN | D6: HZS | E6: Kompl.čin. | F6: Ost. náklady | G6: Cena
A7: SO 01 Altánok | B7: ='SO 14314'!I124-Rekapitulácia!D7 -> 0 | C7: ='Kryci_list 14314'!J26 -> 0 | D7: 0 | E7: ='Kryci_list 14314'!J17 -> 0 | F7: 0 | G7: =B7+C7+D7+E7+F7 -> 0 | K7: ='SO 14314'!K124 -> 0 | Q7: 30.126
A8: SO 02 Oprava lávky | B8: ='SO 14315'!I33-Rekapitulácia!D8 -> 0 | C8: ='Kryci_list 14315'!J26 -> 0 | D8: 0 | E8: ='Kryci_list 14315'!J17 -> 0 | F8: 0 | G8: =B8+C8+D8+E8+F8 -> 0 | K8: ='SO 14315'!K33 -> 0 | Q8: 30.126
A9: Celkom bez DPH | B9: =SUM(B7:B8) -> 0 | C9: =SUM(C7:C8) -> 0 | D9: =SUM(D7:D8) -> 0 | E9: =SUM(E7:E8) -> 0 | F9: =SUM(F7:F8) -> 0 | G9: =SUM(G7:G8)-SUM(Z7:Z8) -> 0
A10: DPH 20% z | B10: =G9-SUM(Rekapitulácia!K7:'Rekapitulácia'!K8)*1 -> 0 | G10: =ROUND(((ROUND(B10,2)*20)/100),2)*1 -> 0
A11: DPH 0% z | B11: =(G9-B10) -> 0 | G11: =ROUND(((ROUND(B11,2)*0)/100),2) -> 0
A12: Celkom v EUR | G12: =SUM(G9:G11) -> 0

Sheet Krycí list stavby
F1: Krycí list stavby | W1: 30.126
B2: Stavba Rekonštrukcia turistickej infraštruktúry pri rieke Topľa
I3: Miesto:
I4: Ks:
B5: Zákazka: | F5: Spracoval: Ing. Ján Halgaš | I5: Dňa | J5: 13.09.2019
B6: Odberateľ: Gréckokatolícka cirkev, farnosť Nižný Hrabovec
B7: IČO: | G7: DIČ:
B8: Projektant: Ing. Jozef Gajdoš - MEP
B9: IČO: | G9: DIČ:
B10: Dodávateľ:
B11: IČO: | G11: DIČ:
B15: A | C15: ZRN | D15: Montáž | E15: Materiál | F15: ZRN spolu | G15: B | H15: Ďalšie náklady
B16: 1 | C16: HSV | D16: ='Kryci_list 14314'!D16+'Kryci_list 14315'!D16 -> 0 | E16: ='Kryci_list 14314'!E16+'Kryci_list 14315'!E16 -> 0 | F16: ='Kryci_list 14314'!F16+'Kryci_list 14315'!F16 -> 0 | G16: 6 | H16: Ostatné náklady | J16: =Rekapitulácia!F9 -> 0
B17: 2 | C17: PSV | D17: ='Kryci_list 14314'!D17+'Kryci_list 14315'!D17 -> 0 | E17: ='Kryci_list 14314'!E17+'Kryci_list 14315'!E17 -> 0 | F17: ='Kryci_list 14314'!F17+'Kryci_list 14315'!F17 -> 0 | G17: 7 | H17: Kompletačná činnosť | J17: =Rekapitulácia!E9 -> 0
B18: 3 | C18: MONT | D18: ='Kryci_list 14314'!D18+'Kryci_list 14315'!D18 -> 0 | E18: ='Kryci_list 14314'!E18+'Kryci_list 14315'!E18 -> 0 | F18: ='Kryci_list 14314'!F18+'Kryci_list 14315'!F18 -> 0 | G18: 8 | H18: HZS | J18: =Rekapitulácia!D9 -> 0
B19: 4 | G19: 9
B20: 5 | C20: Spolu | F20: =SUM(F16:F19) -> 0 | G20: 10 | H20: Spolu | J20: =SUM(J16:J19) -> 0
B21: C | C21: VRN | G21: D | H21: VRN
B22: 11 | C22: Zariadenie staveniska | F22: ='Kryci_list 14314'!F22+'Kryci_list 14315'!F22 -> 0 | G22: 16 | H22: Sťažené podmienky dopravy | J22: ='Kryci_list 14314'!J22+'Kryci_list 14315'!J22 -> 0
B23: 12 | C23: Sťažené výrobné podmienky | F23: ='Kryci_list 14314'!F23+'Kryci_list 14315'!F23 -> 0 | G23: 17 | H23: Horské oblasti | J23: ='Kryci_list 14314'!J23+'Kryci_list 14315'!J23 -> 0
B24: 13 | C24: Prevádzkové vplyvy | F24: ='Kryci_list 14314'!F24+'Kryci_list 14315'!F24 -> 0 | G24: 18 | H24: Mimostavenisková doprava | J24: ='Kryci_list 14314'!J24+'Kryci_list 14315'!J24 -> 0
B25: 14 | G25: 19
B26: 15 | G26: 20 | H26: Spolu | J26: =SUM(J22:J25)+SUM(F22:F25) -> 0
C27: Projektant,rozpočtár | G27: E | H27: Celkové náklady
G28: 21 | H28: Súčet riadkov 5,10,15,20 | J28: =F20+J20+F26+J26 -> 0
G29: 22 | H29: DPH 20% z | I29: =Rekapitulácia!B10 -> 0 | J29: =ROUND(((ROUND(I29,2)*20)/100),2)*1 -> 0
G30: 23 | H30: DPH 0% z | I30: =Rekapitulácia!B11 -> 0 | J30: =ROUND(((ROUND(I30,2)*0)/100),2) -> 0
G31: 24 | H31: Spolu v EUR | J31: =SUM(J28:J30) -> 0
G32: F
D33: Odberateľ | H33: Dodávateľ

Sheet Kryci_list 14314
F1: Krycí list rozpočtu | W1: 30.126
B2: Stavba Rekonštrukcia turistickej infraštruktúry pri rieke Topľa
B3: Objekt SO 01 Altánok | I3: Miesto:
I4: Ks:
B5: Zákazka: | F5: Spracoval: Ing. Ján Halgaš | I5: Dňa | J5: 13.09.2019
B6: Odberateľ: Gréckokatolícka cirkev, farnosť Nižný Hrabovec
B7: IČO: | G7: DIČ:
B8: Projektant: Ing. Jozef Gajdoš - MEP
B9: IČO: | G9: DIČ:
B10: Dodávateľ:
B11: IČO: | G11: DIČ:
B15: A | C15: ZRN | D15: Montáž | E15: Materiál | F15: ZRN spolu | G15: B | H15: Ďalšie náklady
B16: 1 | C16: HSV | D16: ='Rekap 14314'!B20 -> 0 | E16: ='Rekap 14314'!C20 -> 0 | F16: ='Rekap 14314'!D20 -> 0 | G16: 6 | H16: Ostatné náklady | J16: 0
B17: 2 | C17: PSV | D17: ='Rekap 14314'!B29 -> 0 | E17: ='Rekap 14314'!C29 -> 0 | F17: ='Rekap 14314'!D29 -> 0 | G17: 7 | H17: Kompletačná činnosť | J17: ='SO 14314'!Z124 -> 0
B18: 3 | C18: MONT | G18: 8 | H18: HZS | J18: 0
B19: 4 | G19: 9
B20: 5 | C20: Spolu | F20: =SUM(F16:F19) -> 0 | G20: 10 | H20: Spolu | J20: =SUM(J16:J19) -> 0
B21: C | C21: VRN | G21: D | H21: VRN
B22: 11 | C22: Zariadenie staveniska | E22: 0% z [H+P+M] | F22: =((F16*U22*0)+(F17*V22*0)+(F18*W22*0))/100 -> 0 | G22: 16 | H22: Sťažené podmienky dopravy | I22: 0% z [H+P+M] | J22: =((F16*X22*0)+(F17*Y22*0)+(F18*Z22*0))/100 -> 0 | U22: 1 | V22: 1 | W22: 1 | X22: 1 | Y22: 1 | Z22: 1
B23: 12 | C23: Sťažené výrobné podmienky | E23: 0% z [H+P] | F23: =((F16*U23*0)+(F17*V23*0)+(F18*W23*0))/100 -> 0 | G23: 17 | H23: Horské oblasti | I23: 0% z [H+P+M] | J23: =((F16*X23*0)+(F17*Y23*0)+(F18*Z23*0))/100 -> 0 | U23: 1 | V23: 1 | W23: 0 | X23: 1 | Y23: 1 | Z23: 1
B24: 13 | C24: Prevádzkové vplyvy | E24: 0% z [H+P+M] | F24: =((F16*U24*0)+(F17*V24*0)+(F18*W24*0))/100 -> 0 | G24: 18 | H24: Mimostavenisková doprava | I24: 0% z [H+P] | J24: =((F16*X24*0)+(F17*Y24*0)+(F18*Z24*0))/100 -> 0 | U24: 1 | V24: 1 | W24: 1 | X24: 1 | Y24: 1 | Z24: 0
B25: 14 | G25: 19
B26: 15 | G26: 20 | H26: Spolu | J26: =SUM(J22:J25)+SUM(F22:F25) -> 0
C27: Projektant,rozpočtár | G27: E | H27: Celkové náklady
G28: 21 | H28: Súčet riadkov 5,10,15,20 | J28: =F20+J20+F26+J26 -> 0
G29: 22 | H29: DPH 20% z | I29: =J28-SUM('SO 14314'!K9:'SO 14314'!K123) -> 0 | J29: =ROUND(((ROUND(I29,2)*20)*1/100),2) -> 0
G30: 23 | H30: DPH 0% z | I30: =SUM('SO 14314'!K9:'SO 14314'!K123) -> 0 | J30: =ROUND(((ROUND(I30,2)*0)/100),2) -> 0
G31: 24 | H31: Spolu v EUR | J31: =SUM(J28:J30) -> 0
G32: F
D33: Odberateľ | G33: 26 | H33: Dodávateľ

Sheet Rekap 14314
A1: Odberateľ: Gréckokatolícka cirkev, farnosť Nižný Hrabovec | E1: Spracoval: Ing. Ján Halgaš | W1: 30.126
A2: Projektant: Ing. Jozef Gajdoš - MEP | E2: Ks:
A3: Dodávateľ: | E3: Dátum: 13.09.2019
A4: Stavba Rekonštrukcia turistickej infraštruktúry pri rieke Topľa
A5: Objekt SO 01 Altánok
A8: Prehľad rozpočtových nákladov
A9: Oddiel | B9: Montáž | C9: Materiál | D9: Spolu | E9: Hmotnosť (T) | F9: Suť (T)
A10: Práce HSV
A11: ZEMNÉ PRÁCE | B11: ='SO 14314'!L20 -> 0 | C11: ='SO 14314'!M20 -> 0 | D11: ='SO 14314'!I20 -> 0 | E11: ='SO 14314'!P20 -> 0 | F11: ='SO 14314'!S20 -> 0
A12: ZÁKLADY | B12: ='SO 14314'!L28 -> 0 | C12: ='SO 14314'!M28 -> 0 | D12: ='SO 14314'!I28 -> 0 | E12: ='SO 14314'!P28 -> 4.43 | F12: ='SO 14314'!S28 -> 21.35
A13: ZVISLÉ KONŠTRUKCIE | B13: ='SO 14314'!L35 -> 0 | C13: ='SO 14314'!M35 -> 0 | D13: ='SO 14314'!I35 -> 0 | E13: ='SO 14314'!P35 -> 1.02 | F13: ='SO 14314'!S35 -> 0.22
A14: VODOROVNÉ KONŠTRUKCIE | B14: ='SO 14314'!L40 -> 0 | C14: ='SO 14314'!M40 -> 0 | D14: ='SO 14314'!I40 -> 0 | E14: ='SO 14314'!P40 -> 2.08 | F14: ='SO 14314'!S40 -> 1.58
A15: SPEVNENÉ PLOCHY | B15: ='SO 14314'!L46 -> 0 | C15: ='SO 14314'!M46 -> 0 | D15: ='SO 14314'!I46 -> 0 | E15: ='SO 14314'!P46 -> 0 | F15: ='SO 14314'!S46 -> 0
A16: POVRCHOVÉ ÚPRAVY | B16: ='SO 14314'!L53 -> 0 | C16: ='SO 14314'!M53 -> 0 | D16: ='SO 14314'!I53 -> 0 | E16: ='SO 14314'!P53 -> 3.04 | F16: ='SO 14314'!S53 -> 6.16
A17: POTRUBNÉ ROZVODY | B17: ='SO 14314'!L57 -> 0 | C17: ='SO 14314'!M57 -> 0 | D17: ='SO 14314'!I57 -> 0 | E17: ='SO 14314'!P57 -> 0 | F17: ='SO 14314'!S57 -> 0
A18: OSTATNÉ PRÁCE | B18: ='SO 14314'!L68 -> 0 | C18: ='SO 14314'!M68 -> 0 | D18: ='SO 14314'!I68 -> 0 | E18: ='SO 14314'!P68 -> 0 | F18: ='SO 14314'!S68 -> 0
A19: PRESUNY HMÔT | B19: ='SO 14314'!L72 -> 0 | C19: ='SO 14314'!M72 -> 0 | D19: ='SO 14314'!I72 -> 0 | E19: ='SO 14314'!P72 -> 0 | F19: ='SO 14314'!S72 -> 0
A20: Práce HSV | B20: ='SO 14314'!L74 -> 0 | C20: ='SO 14314'!M74 -> 0 | D20: ='SO 14314'!I74 -> 0 | E20: ='SO 14314'!P74 -> 10.57 | F20: ='SO 14314'!S74 -> 29.31
A22: Práce PSV
A23: ZTI-VNÚTORNA KANALIZÁCIA | B23: ='SO 14314'!L80 -> 0 | C23: ='SO 14314'!M80 -> 0 | D23: ='SO 14314'!I80 -> 0 | E23: ='SO 14314'!P80 -> 0 | F23: ='SO 14314'!S80 -> 0.01
A24: KONŠTRUKCIE TESÁRSKE | B24: ='SO 14314'!L94 -> 0 | C24: ='SO 14314'!M94 -> 0 | D24: ='SO 14314'!I94 -> 0 | E24: ='SO 14314'!P94 -> 0.02 | F24: ='SO 14314'!S94 -> 0.09
A25: KONŠTRUKCIE KLAMPIARSKE | B25: ='SO 14314'!L103 -> 0 | C25: ='SO 14314'!M103 -> 0 | D25: ='SO 14314'!I103 -> 0 | E25: ='SO 14314'!P103 -> 0 | F25: ='SO 14314'!S103 -> 0.01
A26: KONŠTRUKCIE STOLÁRSKE | B26: ='SO 14314'!L109 -> 0 | C26: ='SO 14314'!M109 -> 0 | D26: ='SO 14314'!I109 -> 0 | E26: ='SO 14314'!P109 -> 0 | F26: ='SO 14314'!S109 -> 0
A27: KOVOVÉ DOPLNKOVÉ KONŠTRUKCIE | B27: ='SO 14314'!L117 -> 0 | C27: ='SO 14314'!M117 -> 0 | D27: ='SO 14314'!I117 -> 0 | E27: ='SO 14314'!P117 -> 0 | F27: ='SO 14314'!S117 -> 0.05
A28: NÁTERY | B28: ='SO 14314'!L121 -> 0 | C28: ='SO 14314'!M121 -> 0 | D28: ='SO 14314'!I121 -> 0 | E28: ='SO 14314'!P121 -> 0 | F28: ='SO 14314'!S121 -> 0
A29: Práce PSV | B29: ='SO 14314'!L123 -> 0 | C29: ='SO 14314'!M123 -> 0 | D29: ='SO 14314'!I123 -> 0 | E29: ='SO 14314'!S123 -> 0.16 | F29: ='SO 14314'!V123 -> 0
A31: Celkom v EUR | B31: ='SO 14314'!L124 -> 0 | C31: ='SO 14314'!M124 -> 0 | D31: ='SO 14314'!I124 -> 0 | E31: ='SO 14314'!S124 -> 29.47 | F31: ='SO 14314'!V124 -> 0

Sheet SO 14314
B1: Odberateľ: Gréckokatolícka cirkev, farnosť Nižný Hrabovec | I1: Spracoval: Ing. Ján Halgaš | W1: 30.126
B2: Projektant: Ing. Jozef Gajdoš - MEP | I2: Ks:
B3: Dodávateľ: | I3: Dátum: 13.09.2019
B4: Zákazka Rekonštrukcia turistickej infraštruktúry pri rieke Topľa
B5: Objekt SO 01 Altánok
B7: Prehľad rozpočtových nákladov
A8: Por.č. | B8: Cenník | C8: Kód položky | D8: Názov | E8: Mj | F8: Množstvo | G8: Cena/Mj | H8: Materiál | I8: Cena celkom | P8: Hmotnosť/Mj | S8: Hmotnosť | V8: Suť
D9: Práce HSV
D10: ZEMNÉ PRÁCE
B11: 1/A 1 | C11: 131211101 | D11: Hĺbenie jám v hornine tr.3 súdržných - ručným náradím | E11: m3 | F11: 0.608 | I11: =ROUND(F11*(G11+H11),2) -> 0 | J11: =ROUND(F11*(N11),2) -> 28.54 | K11: =ROUND(F11*(O11),2) -> 0 | L11: =ROUND(F11*(G11),2) -> 0 | N11: 46.94 | Z11: 0
B12: 1/A 1 | C12: 131211119 | D12: Príplatok za lepivosť pri hĺbení jám ručným náradím v hornine tr. 3 | E12: m3 | F12: 0.608 | I12: =ROUND(F12*(G12+H12),2) -> 0 | J12: =ROUND(F12*(N12),2) -> 5.72 | K12: =ROUND(F12*(O12),2) -> 0 | L12: =ROUND(F12*(G12),2) -> 0 | N12: 9.4 | Z12: 0
B13: 1/A 1 | C13: 132201101 | D13: Výkop ryhy do šírky 600 mm v horn.3 do 100 m3 | E13: m3 | F13: 10.581 | I13: =ROUND(F13*(G13+H13),2) -> 0 | J13: =ROUND(F13*(N13),2) -> 280.08 | K13: =ROUND(F13*(O13),2) -> 0 | L13: =ROUND(F13*(G13),2) -> 0 | N13: 26.47 | Z13: 0
B14: 1/A 1 | C14: 132201109 | D14: Príplatok k cene za lepivosť pri hĺbení rýh šírky do 600 mm zapažených i nezapažených s urovnaním dna v hornine 3 | E14: m3 | F14: 5.291 | I14: =ROUND(F14*(G14+H14),2) -> 0 | J14: =ROUND(F14*(N14),2) -> 39.68 | K14: =ROUND(F14*(O14),2) -> 0 | L14: =ROUND(F14*(G14),2) -> 0 | N14: 7.5 | Z14: 0
B15: 1/A 1 | C15: 162201101 | D15: Vodorovné premiestnenie výkopku z horniny 1-4 do 20m | E15: m3 | F15: 11.189 | I15: =ROUND(F15*(G15+H15),2) -> 0 | J15: =ROUND(F15*(N15),2) -> 13.2 | K15: =ROUND(F15*(O15),2) -> 0 | L15: =ROUND(F15*(G15),2) -> 0 | N15: 1.18 | Z15: 0
B16: 1/A 1 | C16: 162201102 | D16: Vodorovné premiestnenie výkopku z horniny 1-4 nad 20-50m | E16: m3 | F16: 11.189 | I16: =ROUND(F16*(G16+H16),2) -> 0 | J16: =ROUND(F16*(N16),2) -> 15.78 | K16: =ROUND(F16*(O16),2) -> 0 | L16: =ROUND(F16*(G16),2) -> 0 | N16: 1.41 | Z16: 0
B17: 1/A 1 | C17: 162501102 | D17: Vodorovné premiestnenie výkopku po spevnenej ceste z horniny tr.1-4, do 100 m3 na vzdialenosť do 3000 m | E17: m3 | F17: 11.189 | I17: =ROUND(F17*(G17+H17),2) -> 0 | J17: =ROUND(F17*(N17),2) -> 40.28 | K17: =ROUND(F17*(O17),2) -> 0 | L17: =ROUND(F17*(G17),2) -> 0 | N17: 3.6 | Z17: 0
B18: 1/A 1 | C18: 171201201 | D18: Uloženie sypaniny na skládky do 100 m3 | E18: m3 | F18: 11.189 | I18: =ROUND(F18*(G18+H18),2) -> 0 | J18: =ROUND(F18*(N18),2) -> 7.38 | K18: =ROUND(F18*(O18),2) -> 0 | L18: =ROUND(F18*(G18),2) -> 0 | N18: 0.66 | Z18: 0
B19: 1/A 1 | C19: 175101102 | D19: Obsyp potrubia sypaninou z vhodných hornín 1 až 4 s prehodením sypaniny | E19: m3 | F19: 1.32 | I19: =ROUND(F19*(G19+H19),2) -> 0 | J19: =ROUND(F19*(N19),2) -> 29.29 | K19: =ROUND(F19*(O19),2) -> 0 | L19: =ROUND(F19*(G19),2) -> 0 | N19: 22.19 | Z19: 0
D20: ZEMNÉ PRÁCE | H20: =ROUND((SUM(M10:M19))/1,2) -> 0 | I20: =ROUND((SUM(I10:I19))/1,2) -> 0 | L20: =ROUND((SUM(L10:L19))/1,2) -> 0 | M20: =ROUND((SUM(M10:M19))/1,2) -> 0 | P20: =ROUND((SUM(P10:P19))/1,2) -> 0 | S20: =ROUND((SUM(S10:S19))/1,2) -> 0
D22: ZÁKLADY
B23: 2/A 1 | C23: 271571111 | D23: Vankúše zhutnené pod základy zo štrkopiesku | E23: m3 | F23: 1.764 | I23: =ROUND(F23*(G23+H23),2) -> 0 | J23: =ROUND(F23*(N23),2) -> 58.26 | K23: =ROUND(F23*(O23),2) -> 0 | L23: =ROUND(F23*(G23),2) -> 0 | N23: 33.03 | P23: 2.0664 | R23: 2.0664 | S23: =ROUND(F23*(R23),3) -> 3.645 | Z23: 0
B24: 11/A 1 | C24: 274313911 | D24: Betón základových pásov, prostý tr. C 35/45 | E24: m3 | F24: 7.497 | I24: =ROUND(F24*(G24+H24),2) -> 0 | J24: =ROUND(F24*(N24),2) -> 741.83 | K24: =ROUND(F24*(O24),2) -> 0 | L24: =ROUND(F24*(G24),2) -> 0 | N24: 98.95 | P24: 2.36188 | R24: 2.36188 | S24: =ROUND(F24*(R24),3) -> 17.707 | Z24: 0
B25: K | C25: 274313919 | D25: Betón odtokovej šachty, prostý tr. C 35/45 | E25: m3 | F25: 0.552 | I25: =ROUND(F25*(G25+H25),2) -> 0 | J25: =ROUND(F25*(N25),2) -> 54.62 | K25: =ROUND(F25*(O25),2) -> 0 | L25: =ROUND(F25*(G25),2) -> 0 | N25: 98.95 | Z25: 0
B26: 2/A 1 | C26: 289971212 | D26: Zhotovenie vrstvy z geotextílie na upravenom povrchu | E26: m2 | F26: 21.22 | I26: =ROUND(F26*(G26+H26),2) -> 0 | J26: =ROUND(F26*(N26),2) -> 9.12 | K26: =ROUND(F26*(O26),2) -> 0 | L26: =ROUND(F26*(G26),2) -> 0 | N26: 0.43 | P26: 3e-05 | R26: 3e-05 | S26: =ROUND(F26*(R26),3) -> 0.001 | Z26: 0
B27: M | C27: 693110001200 | D27: Geotextília polypropylénová 300g/m3 , hrúbka 3 mm | E27: m2 | F27: 21.644 | I27: =ROUND(F27*(G27+H27),2) -> 0 | J27: =ROUND(F27*(N27),2) -> 19.91 | K27: =ROUND(F27*(O27),2) -> 0 | L27: =ROUND(F27*(G27),2) -> 0 | N27: 0.92 | Z27: 0
D28: ZÁKLADY | H28: =ROUND((SUM(M22:M27))/1,2) -> 0 | I28: =ROUND((SUM(I22:I27))/1,2) -> 0 | L28: =ROUND((SUM(L22:L27))/1,2) -> 0 | M28: =ROUND((SUM(M22:M27))/1,2) -> 0 | P28: =ROUND((SUM(P22:P27))/1,2) -> 4.43 | S28: =ROUND((SUM(S22:S27))/1,2) -> 21.35
D30: ZVISLÉ KONŠTRUKCIE
B31: K | C31: 311311953 | D31: Betón nadzákladových múrov vodostavebný tr. C 35/45 - pohľadový | E31: m3 | F31: 2.352 | I31: =ROUND(F31*(G31+H31),2) -> 0 | J31: =ROUND(F31*(N31),2) -> 263.17 | K31: =ROUND(F31*(O31),2) -> 0 | L31: =ROUND(F31*(G31),2) -> 0 | N31: 111.89 | Z31: 0
B32: 11/A 1 | C32: 311351105 | D32: Debnenie nadzákladových múrov obojstranné zhotovenie-dielce | E32: m2 | F32: 15.68 | I32: =ROUND(F32*(G32+H32),2) -> 0 | J32: =ROUND(F32*(N32),2) -> 237.87 | K32: =ROUND(F32*(O32),2) -> 0 | L32: =ROUND(F32*(G32),2) -> 0 | N32: 15.17 | P32: 0.00216 | R32: 0.00216 | S32: =ROUND(F32*(R32),3) -> 0.034 | Z32: 0
B33: 11/A 1 | C33: 311351106 | D33: Debnenie nadzákladových múrov obojstranné odstránenie-dielce | E33: m2 | F33: 15.68 | I33: =ROUND(F33*(G33+H33),2) -> 0 | J33: =ROUND(F33*(N33),2) -> 71.66 | K33: =ROUND(F33*(O33),2) -> 0 | L33: =ROUND(F33*(G33),2) -> 0 | N33: 4.57 | Z33: 0
B34: 11/A 1 | C34: 311361821 | D34: Výstuž nadzákladových múrov 10505 | E34: t | F34: 0.178 | I34: =ROUND(F34*(G34+H34),2) -> 0 | J34: =ROUND(F34*(N34),2) -> 304.79 | K34: =ROUND(F34*(O34),2) -> 0 | L34: =ROUND(F34*(G34),2) -> 0 | N34: 1712.32 | P34: 1.01561 | R34: 1.01561 | S34: =ROUND(F34*(R34),3) -> 0.181 | Z34: 0
D35: ZVISLÉ KONŠTRUKCIE | H35: =ROUND((SUM(M30:M34))/1,2) -> 0 | I35: =ROUND((SUM(I30:I34))/1,2) -> 0 | L35: =ROUND((SUM(L30:L34))/1,2) -> 0 | M35: =ROUND((SUM(M30:M34))/1,2) -> 0 | P35: =ROUND((SUM(P30:P34))/1,2) -> 1.02 | S35: =ROUND((SUM(S30:S34))/1,2) -> 0.22
D37: VODOROVNÉ KONŠTRUKCIE
B38: 221/A 1 | C38: 451317777 | D38: Podklad pod dlažbu vodorovne alebo v sklone do 1:5 hr. 50-100mm z bet. tr. C 8/10 | E38: m2 | F38: 4.95 | I38: =ROUND(F38*(G38+H38),2) -> 0 | J38: =ROUND(F38*(N38),2) -> 31.23 | K38: =ROUND(F38*(O38),2) -> 0 | L38: =ROUND(F38*(G38),2) -> 0 | N38: 6.31 | P38: 0.18547 | R38: 0.18547 | S38: =ROUND(F38*(R38),3) -> 0.918 | Z38: 0
B39: 271/A 1 | C39: 451573111 | D39: Lôžko pod potrubie, stoky a drobné objekty, v otvorenom výkope z piesku a štrkopiesku do 63 mm | E39: m3 | F39: 0.35 | I39: =ROUND(F39*(G39+H39),2) -> 0 | J39: =ROUND(F39*(N39),2) -> 11.49 | K39: =ROUND(F39*(O39),2) -> 0 | L39: =ROUND(F39*(G39),2) -> 0 | N39: 32.84 | P39: 1.89077 | R39: 1.89077 | S39: =ROUND(F39*(R39),3) -> 0.662 | Z39: 0
D40: VODOROVNÉ KONŠTRUKCIE | H40: =ROUND((SUM(M37:M39))/1,2) -> 0 | I40: =ROUND((SUM(I37:I39))/1,2) -> 0 | L40: =ROUND((SUM(L37:L39))/1,2) -> 0 | M40: =ROUND((SUM(M37:M39))/1,2) -> 0 | P40: =ROUND((SUM(P37:P39))/1,2) -> 2.08 | S40: =ROUND((SUM(S37:S39))/1,2) -> 1.58
D42: SPEVNENÉ PLOCHY
B43: K | C43: 564760211 | D43: Podklad alebo kryt z kameniva hrubého drveného veľ. 16-32 mm s rozprestretím a zhutnením hr. 200 mm | E43: m2 | F43: 4.95 | I43: =ROUND(F43*(G43+H43),2) -> 0 | J43: =ROUND(F43*(N43),2) -> 37.92 | K43: =ROUND(F43*(O43),2) -> 0 | L43: =ROUND(F43*(G43),2) -> 0 | N43: 7.66 | Z43: 0
B44: K | C44: 596811310 | D44: Kladenie betónovej dlažby s vyplnením škár | E44: m2 | F44: 4.95 | I44: =ROUND(F44*(G44+H44),2) -> 0 | J44: =ROUND(F44*(N44),2) -> 63.81 | K44: =ROUND(F44*(O44),2) -> 0 | L44: =ROUND(F44*(G44),2) -> 0 | N44: 12.89 | Z44: 0
B45: M | C45: 592460014504 | D45: Dlažba betónová, rozmer 500x500x80 mm, sivá | E45: ks | F45: 20 | I45: =ROUND(F45*(G45+H45),2) -> 0 | J45: =ROUND(F45*(N45),2) -> 76.2 | K45: =ROUND(F45*(O45),2) -> 0 | L45: =ROUND(F45*(G45),2) -> 0 | N45: 3.81 | Z45: 0
...

Sheet Kryci_list 14315
F1: Krycí list rozpočtu | W1: 30.126
B2: Stavba Rekonštrukcia turistickej infraštruktúry pri rieke Topľa
B3: Objekt SO 02 Oprava lávky | I3: Miesto:
I4: Ks:
B5: Zákazka: | F5: Spracoval: Ing. Ján Halgaš | I5: Dňa | J5: 13.09.2019
B6: Odberateľ: Gréckokatolícka cirkev, farnosť Nižný Hrabovec
B7: IČO: | G7: DIČ:
B8: Projektant: Ing. Jozef Gajdoš - MEP
B9: IČO: | G9: DIČ:
B10: Dodávateľ:
B11: IČO: | G11: DIČ:
B15: A | C15: ZRN | D15: Montáž | E15: Materiál | F15: ZRN spolu | G15: B | H15: Ďalšie náklady
B16: 1 | C16: HSV | G16: 6 | H16: Ostatné náklady | J16: 0
B17: 2 | C17: PSV | D17: ='Rekap 14315'!B13 -> 0 | E17: ='Rekap 14315'!C13 -> 0 | F17: ='Rekap 14315'!D13 -> 0 | G17: 7 | H17: Kompletačná činnosť | J17: ='SO 14315'!Z33 -> 0
B18: 3 | C18: MONT | G18: 8 | H18: HZS | J18: 0
B19: 4 | G19: 9
B20: 5 | C20: Spolu | F20: =SUM(F16:F19) -> 0 | G20: 10 | H20: Spolu | J20: =SUM(J16:J19) -> 0
B21: C | C21: VRN | G21: D | H21: VRN
B22: 11 | C22: Zariadenie staveniska | E22: 0% z [H+P+M] | F22: =((F16*U22*0)+(F17*V22*0)+(F18*W22*0))/100 -> 0 | G22: 16 | H22: Sťažené podmienky dopravy | I22: 0% z [H+P+M] | J22: =((F16*X22*0)+(F17*Y22*0)+(F18*Z22*0))/100 -> 0 | U22: 1 | V22: 1 | W22: 1 | X22: 1 | Y22: 1 | Z22: 1
B23: 12 | C23: Sťažené výrobné podmienky | E23: 0% z [H+P] | F23: =((F16*U23*0)+(F17*V23*0)+(F18*W23*0))/100 -> 0 | G23: 17 | H23: Horské oblasti | I23: 0% z [H+P+M] | J23: =((F16*X23*0)+(F17*Y23*0)+(F18*Z23*0))/100 -> 0 | U23: 1 | V23: 1 | W23: 0 | X23: 1 | Y23: 1 | Z23: 1
B24: 13 | C24: Prevádzkové vplyvy | E24: 0% z [H+P+M] | F24: =((F16*U24*0)+(F17*V24*0)+(F18*W24*0))/100 -> 0 | G24: 18 | H24: Mimostavenisková doprava | I24: 0% z [H+P] | J24: =((F16*X24*0)+(F17*Y24*0)+(F18*Z24*0))/100 -> 0 | U24: 1 | V24: 1 | W24: 1 | X24: 1 | Y24: 1 | Z24: 0
B25: 14 | G25: 19
B26: 15 | G26: 20 | H26: Spolu | J26: =SUM(J22:J25)+SUM(F22:F25) -> 0
C27: Projektant,rozpočtár | G27: E | H27: Celkové náklady
G28: 21 | H28: Súčet riadkov 5,10,15,20 | J28: =F20+J20+F26+J26 -> 0
G29: 22 | H29: DPH 20% z | I29: =J28-SUM('SO 14315'!K9:'SO 14315'!K32) -> 0 | J29: =ROUND(((ROUND(I29,2)*20)*1/100),2) -> 0
G30: 23 | H30: DPH 0% z | I30: =SUM('SO 14315'!K9:'SO 14315'!K32) -> 0 | J30: =ROUND(((ROUND(I30,2)*0)/100),2) -> 0
G31: 24 | H31: Spolu v EUR | J31: =SUM(J28:J30) -> 0
G32: F
D33: Odberateľ | G33: 26 | H33: Dodávateľ

Sheet Rekap 14315
A1: Odberateľ: Gréckokatolícka cirkev, farnosť Nižný Hrabovec | E1: Spracoval: Ing. Ján Halgaš | W1: 30.126
A2: Projektant: Ing. Jozef Gajdoš - MEP | E2: Ks:
A3: Dodávateľ: | E3: Dátum: 13.09.2019
A4: Stavba Rekonštrukcia turistickej infraštruktúry pri rieke Topľa
A5: Objekt SO 02 Oprava lávky
A8: Prehľad rozpočtových nákladov
A9: Oddiel | B9: Montáž | C9: Materiál | D9: Spolu | E9: Hmotnosť (T) | F9: Suť (T)
A10: Práce PSV
A11: KOVOVÉ DOPLNKOVÉ KONŠTRUKCIE | B11: ='SO 14315'!L23 -> 0 | C11: ='SO 14315'!M23 -> 0 | D11: ='SO 14315'!I23 -> 0 | E11: ='SO 14315'!P23 -> 0 | F11: ='SO 14315'!S23 -> 0
A12: NÁTERY | B12: ='SO 14315'!L30 -> 0 | C12: ='SO 14315'!M30 -> 0 | D12: ='SO 14315'!I30 -> 0 | E12: ='SO 14315'!P30 -> 0 | F12: ='SO 14315'!S30 -> 0.1
A13: Práce PSV | B13: ='SO 14315'!L32 -> 0 | C13: ='SO 14315'!M32 -> 0 | D13: ='SO 14315'!I32 -> 0 | E13: ='SO 14315'!S32 -> 0.1 | F13: ='SO 14315'!V32 -> 0
A15: Celkom v EUR | B15: ='SO 14315'!L33 -> 0 | C15: ='SO 14315'!M33 -> 0 | D15: ='SO 14315'!I33 -> 0 | E15: ='SO 14315'!S33 -> 0.1 | F15: ='SO 14315'!V33 -> 0

Sheet SO 14315
B1: Odberateľ: Gréckokatolícka cirkev, farnosť Nižný Hrabovec | I1: Spracoval: Ing. Ján Halgaš | W1: 30.126
B2: Projektant: Ing. Jozef Gajdoš - MEP | I2: Ks:
B3: Dodávateľ: | I3: Dátum: 13.09.2019
B4: Zákazka Rekonštrukcia turistickej infraštruktúry pri rieke Topľa
B5: Objekt SO 02 Oprava lávky
B7: Prehľad rozpočtových nákladov
A8: Por.č. | B8: Cenník | C8: Kód položky | D8: Názov | E8: Mj | F8: Množstvo | G8: Cena/Mj | H8: Materiál | I8: Cena celkom | P8: Hmotnosť/Mj | S8: Hmotnosť | V8: Suť
D9: Práce PSV
D10: KOVOVÉ DOPLNKOVÉ KONŠTRUKCIE
B11: K | C11: 7679951019 | D11: Montáž oceľových prvkov lávky podľa výpisu | E11: kg | F11: 5327.53 | I11: =ROUND(F11*(G11+H11),2) -> 0 | J11: =ROUND(F11*(N11),2) -> 11187.81 | K11: =ROUND(F11*(O11),2) -> 0 | L11: =ROUND(F11*(G11),2) -> 0 | N11: 2.1 | Z11: 0
B12: M | C12: PC76701 | D12: Podlahový nosník T80 - ozn. L1 | E12: kg | F12: 763.56 | I12: =ROUND(F12*(G12+H12),2) -> 0 | J12: =ROUND(F12*(N12),2) -> 1603.48 | K12: =ROUND(F12*(O12),2) -> 0 | L12: =ROUND(F12*(G12),2) -> 0 | N12: 2.1 | Z12: 0
B13: M | C13: PC76702 | D13: Podlahový oceľ.plech so slzič. výstupkami hr. 5mm - ozn. L2 | E13: kg | F13: 3328.68 | I13: =ROUND(F13*(G13+H13),2) -> 0 | J13: =ROUND(F13*(N13),2) -> 2263.5 | K13: =ROUND(F13*(O13),2) -> 0 | L13: =ROUND(F13*(G13),2) -> 0 | N13: 0.68 | Z13: 0
B14: M | C14: PC76703 | D14: Doplnenie tyče závesov D16 mm (vr. závit.tyče, podložky, maice) - ozn. L3 | E14: kg | F14: 72.2 | I14: =ROUND(F14*(G14+H14),2) -> 0 | J14: =ROUND(F14*(N14),2) -> 83.03 | K14: =ROUND(F14*(O14),2) -> 0 | L14: =ROUND(F14*(G14),2) -> 0 | N14: 1.15 | Z14: 0
B15: M | C15: PC76704 | D15: Horné madlo D16, vr. úložného oka, zarážky, nadstavenia yče závesov - ozn. L4 | E15: kg | F15: 196.39 | I15: =ROUND(F15*(G15+H15),2) -> 0 | J15: =ROUND(F15*(N15),2) -> 231.74 | K15: =ROUND(F15*(O15),2) -> 0 | L15: =ROUND(F15*(G15),2) -> 0 | N15: 1.18 | Z15: 0
B16: M | C16: PC76705 | D16: Priečnik zábradlia D10, vr. úložného oka a zarážky - ozn. L5 | E16: kg | F16: 228.75 | I16: =ROUND(F16*(G16+H16),2) -> 0 | J16: =ROUND(F16*(N16),2) -> 253.91 | K16: =ROUND(F16*(O16),2) -> 0 | L16: =ROUND(F16*(G16),2) -> 0 | N16: 1.11 | Z16: 0
B17: M | C17: PC76706 | D17: Kotviací prvok zábradlia 16x16 - ozn. L6 | E17: kg | F17: 10.29 | I17: =ROUND(F17*(G17+H17),2) -> 0 | J17: =ROUND(F17*(N17),2) -> 18.62 | K17: =ROUND(F17*(O17),2) -> 0 | L17: =ROUND(F17*(G17),2) -> 0 | N17: 1.81 | Z17: 0
B18: M | C18: PC76707 | D18: Oceľová poplastovaná sieťovina 30/30/3 + nerez kotviací prvok - on. L7 | E18: m2 | F18: 123.5 | I18: =ROUND(F18*(G18+H18),2) -> 0 | J18: =ROUND(F18*(N18),2) -> 384.09 | K18: =ROUND(F18*(O18),2) -> 0 | L18: =ROUND(F18*(G18),2) -> 0 | N18: 3.11 | Z18: 0
B19: M | C19: PC76708 | D19: Strieška - ozn. L8 | E19: kg | F19: 5.36 | I19: =ROUND(F19*(G19+H19),2) -> 0 | J19: =ROUND(F19*(N19),2) -> 13.72 | K19: =ROUND(F19*(O19),2) -> 0 | L19: =ROUND(F19*(G19),2) -> 0 | N19: 2.56 | Z19: 0
B20: K | C20: 7679951021 | D20: Vyrovnanie a nastavenie závesných prvkov exist. konštrukcie lávky | E20: hod | F20: 90 | I20: =ROUND(F20*(G20+H20),2) -> 0 | J20: =ROUND(F20*(N20),2) -> 900 | K20: =ROUND(F20*(O20),2) -> 0 | L20: =ROUND(F20*(G20),2) -> 0 | N20: 10 | Z20: 0
B21: K | C21: 767996807 | D21: Demontáž oceľových prvkov lávky podľa výpisu | E21: kg | F21: 4535.13 | I21: =ROUND(F21*(G21+H21),2) -> 0 | J21: =ROUND(F21*(N21),2) -> 3310.64 | K21: =ROUND(F21*(O21),2) -> 0 | L21: =ROUND(F21*(G21),2) -> 0 | N21: 0.73 | Z21: 0
B22: 767/A 3 | C22: 998767201 | D22: Presun hmôt pre kovové stavebné doplnkové konštrukcie v objektoch výšky do 6 m | E22: % | F22: 0.9 | I22: =ROUND(F22*(G22+H22),2) -> 0 | J22: =ROUND(F22*(N22),2) -> 182.26 | K22: =ROUND(F22*(O22),2) -> 0 | L22: =ROUND(F22*(G22),2) -> 0 | N22: 202.51 | Z22: 0
D23: KOVOVÉ DOPLNKOVÉ KONŠTRUKCIE | H23: =ROUND((SUM(M10:M22))/1,2) -> 0 | I23: =ROUND((SUM(I10:I22))/1,2) -> 0 | L23: =ROUND((SUM(L10:L22))/1,2) -> 0 | M23: =ROUND((SUM(M10:M22))/1,2) -> 0 | P23: =ROUND((SUM(P10:P22))/1,2) -> 0 | S23: =ROUND((SUM(S10:S22))/1,2) -> 0
D25: NÁTERY
B26: K | C26: 783201812 | D26: Odstránenie starých náterov z kovových stavebných doplnkových konštrukcií oceľovou kefou | E26: m2 | F26: 239 | I26: =ROUND(F26*(G26+H26),2) -> 0 | J26: =ROUND(F26*(N26),2) -> 437.37 | K26: =ROUND(F26*(O26),2) -> 0 | L26: =ROUND(F26*(G26),2) -> 0 | N26: 1.83 | Z26: 0
B27: 783/A 1 | C27: 783222100 | D27: Nátery kov.stav.doplnk.konštr. syntetické na vzduchu schnúce dvojnásobné | E27: m2 | F27: 433 | I27: =ROUND(F27*(G27+H27),2) -> 0 | J27: =ROUND(F27*(N27),2) -> 1796.95 | K27: =ROUND(F27*(O27),2) -> 0 | L27: =ROUND(F27*(G27),2) -> 0 | N27: 4.15 | P27: 0.00016 | R27: 0.00016 | S27: =ROUND(F27*(R27),3) -> 0.069 | Z27: 0
B28: 783/A 1 | C28: 783226100 | D28: Nátery kov.stav.doplnk.konštr. syntetické na vzduchu schnúce základný 2x | E28: m2 | F28: 433 | I28: =ROUND(F28*(G28+H28),2) -> 0 | J28: =ROUND(F28*(N28),2) -> 995.9 | K28: =ROUND(F28*(O28),2) -> 0 | L28: =ROUND(F28*(G28),2) -> 0 | N28: 2.3 | P28: 8e-05 | R28: 8e-05 | S28: =ROUND(F28*(R28),3) -> 0.035 | Z28: 0
B29: K | C29: 783903815 | D29: Otriskanie a odmastenie oceľ. nových prvkov | E29: m2 | F29: 194 | I29: =ROUND(F29*(G29+H29),2) -> 0 | J29: =ROUND(F29*(N29),2) -> 217.28 | K29: =ROUND(F29*(O29),2) -> 0 | L29: =ROUND(F29*(G29),2) -> 0 | N29: 1.12 | Z29: 0
D30: NÁTERY | I30: =ROUND((SUM(I25:I29))/1,2) -> 0 | L30: =ROUND((SUM(L25:L29))/1,2) -> 0 | M30: =ROUND((SUM(M25:M29))/1,2) -> 0 | S30: =ROUND((SUM(S25:S29))/1,2) -> 0.1 | V30: =ROUND((SUM(V25:V29))/1,2) -> 0
D32: Práce PSV | H32: =ROUND((SUM(M9:M31))/2,2) -> 0 | I32: =ROUND((SUM(I9:I31))/2,2) -> 0 | L32: =ROUND((SUM(L9:L31))/2,2) -> 0 | M32: =ROUND((SUM(M9:M31))/2,2) -> 0 | S32: =ROUND((SUM(S9:S31))/2,2) -> 0.1 | V32: =ROUND((SUM(V9:V31))/2,2) -> 0
D33: Celkom v EUR | H33: =ROUND((SUM(M9:M32))/3,2) -> 0 | I33: =ROUND((SUM(I9:I32))/3,2) -> 0 | K33: =ROUND((SUM(K9:K32))/3,2) -> 0 | L33: =ROUND((SUM(L9:L32))/3,2) -> 0 | M33: =ROUND((SUM(M9:M32))/3,2) -> 0 | S33: =ROUND((SUM(S9:S32))/3,2) -> 0.1 | V33: =ROUND((SUM(V9:V32))/3,2) -> 0 | Z33: =(SUM(Z9:Z32)) -> 0
