Workbook

Sheet Rekapitulácia
A2: Rekapitulácia rozpočtu | F2: Sadzby DPH
F3: A | G3: B
A4: Stavba Modernizácia domu smútku v obci Bystré | F4: 0.2 | G4: 0
A6: Názov objektu | B6: ZRN | C6: VRN | D6: HZS | E6: Kompl.čin. | F6: Ost. náklady | G6: Cena
A7: 01 ASR - stavebné riešenie | B7: ='SO 14304'!I113-Rekapitulácia!D7 -> 0 | C7: ='Kryci_list 14304'!J26 -> 0 | D7: 0 | E7: ='Kryci_list 14304'!J17 -> 0 | F7: 0 | G7: =B7+C7+D7+E7+F7 -> 0 | K7: ='SO 14304'!K113 -> 0 | Q7: 30.126
A8: Celkom bez DPH | B8: =SUM(B7:B7) -> 0 | C8: =SUM(C7:C7) -> 0 | D8: =SUM(D7:D7) -> 0 | E8: =SUM(E7:E7) -> 0 | F8: =SUM(F7:F7) -> 0 | G8: =SUM(G7:G7)-SUM(Z7:Z7) -> 0
A9: DPH 20% z | B9: =G8-SUM(Rekapitulácia!K7:'Rekapitulácia'!K7)*1 -> 0 | G9: =ROUND(((ROUND(B9,2)*20)/100),2)*1 -> 0
A10: DPH 0% z | B10: =(G8-B9) -> 0 | G10: =ROUND(((ROUND(B10,2)*0)/100),2) -> 0
A11: Celkom v EUR | G11: =SUM(G8:G10) -> 0

Sheet Krycí list stavby
F1: Krycí list stavby | W1: 30.126
B2: Stavba Modernizácia domu smútku v obci Bystré
I3: Miesto:
I4: Ks:
B5: Zákazka: | F5: Spracoval: Ing. Ján Halgaš | I5: Dňa | J5: 20.08.2019
B6: Odberateľ: Obec Bystré
B7: IČO: | G7: DIČ:
B8: Projektant: Ing. Michal Gajdoš, GM-PROJEKTOVÁ KANCELÁRIA
B9: IČO: | G9: DIČ:
B10: Dodávateľ:
B11: IČO: | G11: DIČ:
B15: A | C15: ZRN | D15: Montáž | E15: Materiál | F15: ZRN spolu | G15: B | H15: Ďalšie náklady
B16: 1 | C16: HSV | D16: ='Kryci_list 14304'!D16 -> 0 | E16: ='Kryci_list 14304'!E16 -> 0 | F16: ='Kryci_list 14304'!F16 -> 0 | G16: 6 | H16: Ostatné náklady | J16: =Rekapitulácia!F8 -> 0
B17: 2 | C17: PSV | D17: ='Kryci_list 14304'!D17 -> 0 | E17: ='Kryci_list 14304'!E17 -> 0 | F17: ='Kryci_list 14304'!F17 -> 0 | G17: 7 | H17: Kompletačná činnosť | J17: =Rekapitulácia!E8 -> 0
B18: 3 | C18: MONT | D18: ='Kryci_list 14304'!D18 -> 0 | E18: ='Kryci_list 14304'!E18 -> 0 | F18: ='Kryci_list 14304'!F18 -> 0 | G18: 8 | H18: HZS | J18: =Rekapitulácia!D8 -> 0
B19: 4 | G19: 9
B20: 5 | C20: Spolu | F20: =SUM(F16:F19) -> 0 | G20: 10 | H20: Spolu | J20: =SUM(J16:J19) -> 0
B21: C | C21: VRN | G21: D | H21: VRN
B22: 11 | C22: Zariadenie staveniska | F22: ='Kryci_list 14304'!F22 -> 0 | G22: 16 | H22: Sťažené podmienky dopravy | J22: ='Kryci_list 14304'!J22 -> 0
B23: 12 | C23: Sťažené výrobné podmienky | F23: ='Kryci_list 14304'!F23 -> 0 | G23: 17 | H23: Horské oblasti | J23: ='Kryci_list 14304'!J23 -> 0
B24: 13 | C24: Prevádzkové vplyvy | F24: ='Kryci_list 14304'!F24 -> 0 | G24: 18 | H24: Mimostavenisková doprava | J24: ='Kryci_list 14304'!J24 -> 0
B25: 14 | G25: 19
B26: 15 | G26: 20 | H26: Spolu | J26: =SUM(J22:J25)+SUM(F22:F25) -> 0
C27: Projektant,rozpočtár | G27: E | H27: Celkové náklady
G28: 21 | H28: Súčet riadkov 5,10,15,20 | J28: =F20+J20+F26+J26 -> 0
G29: 22 | H29: DPH 20% z | I29: =Rekapitulácia!B9 -> 0 | J29: =ROUND(((ROUND(I29,2)*20)/100),2)*1 -> 0
G30: 23 | H30: DPH 0% z | I30: =Rekapitulácia!B10 -> 0 | J30: =ROUND(((ROUND(I30,2)*0)/100),2) -> 0
G31: 24 | H31: Spolu v EUR | J31: =SUM(J28:J30) -> 0
G32: F
D33: Odberateľ | H33: Dodávateľ

Sheet Kryci_list 14304
F1: Krycí list rozpočtu | W1: 30.126
B2: Stavba Modernizácia domu smútku v obci Bystré
B3: Objekt 01 ASR - stavebné riešenie | I3: Miesto:
I4: Ks:
B5: Zákazka: | F5: Spracoval: Ing. Ján Halgaš | I5: Dňa | J5: 20.08.2019
B6: Odberateľ: Obec Bystré
B7: IČO: | G7: DIČ:
B8: Projektant: Ing. Michal Gajdoš, GM-PROJEKTOVÁ KANCELÁRIA
B9: IČO: | G9: DIČ:
B10: Dodávateľ:
B11: IČO: | G11: DIČ:
B15: A | C15: ZRN | D15: Montáž | E15: Materiál | F15: ZRN spolu | G15: B | H15: Ďalšie náklady
B16: 1 | C16: HSV | D16: ='Rekap 14304'!B18 -> 0 | E16: ='Rekap 14304'!C18 -> 0 | F16: ='Rekap 14304'!D18 -> 0 | G16: 6 | H16: Ostatné náklady | J16: 0
B17: 2 | C17: PSV | D17: ='Rekap 14304'!B26 -> 0 | E17: ='Rekap 14304'!C26 -> 0 | F17: ='Rekap 14304'!D26 -> 0 | G17: 7 | H17: Kompletačná činnosť | J17: ='SO 14304'!Z113 -> 0
B18: 3 | C18: MONT | G18: 8 | H18: HZS | J18: 0
B19: 4 | G19: 9
B20: 5 | C20: Spolu | F20: =SUM(F16:F19) -> 0 | G20: 10 | H20: Spolu | J20: =SUM(J16:J19) -> 0
B21: C | C21: VRN | G21: D | H21: VRN
B22: 11 | C22: Zariadenie staveniska | E22: 0% z [H+P+M] | F22: =((F16*U22*0)+(F17*V22*0)+(F18*W22*0))/100 -> 0 | G22: 16 | H22: Sťažené podmienky dopravy | I22: 0% z [H+P+M] | J22: =((F16*X22*0)+(F17*Y22*0)+(F18*Z22*0))/100 -> 0 | U22: 1 | V22: 1 | W22: 1 | X22: 1 | Y22: 1 | Z22: 1
B23: 12 | C23: Sťažené výrobné podmienky | E23: 0% z [H+P] | F23: =((F16*U23*0)+(F17*V23*0)+(F18*W23*0))/100 -> 0 | G23: 17 | H23: Horské oblasti | I23: 0% z [H+P+M] | J23: =((F16*X23*0)+(F17*Y23*0)+(F18*Z23*0))/100 -> 0 | U23: 1 | V23: 1 | W23: 0 | X23: 1 | Y23: 1 | Z23: 1
B24: 13 | C24: Prevádzkové vplyvy | E24: 0% z [H+P+M] | F24: =((F16*U24*0)+(F17*V24*0)+(F18*W24*0))/100 -> 0 | G24: 18 | H24: Mimostavenisková doprava | I24: 0% z [H+P] | J24: =((F16*X24*0)+(F17*Y24*0)+(F18*Z24*0))/100 -> 0 | U24: 1 | V24: 1 | W24: 1 | X24: 1 | Y24: 1 | Z24: 0
B25: 14 | G25: 19
B26: 15 | G26: 20 | H26: Spolu | J26: =SUM(J22:J25)+SUM(F22:F25) -> 0
C27: Projektant,rozpočtár | G27: E | H27: Celkové náklady
G28: 21 | H28: Súčet riadkov 5,10,15,20 | J28: =F20+J20+F26+J26 -> 0
G29: 22 | H29: DPH 20% z | I29: =J28-SUM('SO 14304'!K9:'SO 14304'!K112) -> 0 | J29: =ROUND(((ROUND(I29,2)*20)*1/100),2) -> 0
G30: 23 | H30: DPH 0% z | I30: =SUM('SO 14304'!K9:'SO 14304'!K112) -> 0 | J30: =ROUND(((ROUND(I30,2)*0)/100),2) -> 0
G31: 24 | H31: Spolu v EUR | J31: =SUM(J28:J30) -> 0
G32: F
D33: Odberateľ | G33: 26 | H33: Dodávateľ

Sheet Rekap 14304
A1: Odberateľ: Obec Bystré | E1: Spracoval: Ing. Ján Halgaš | W1: 30.126
A2: Projektant: Ing. Michal Gajdoš, GM-PROJEKTOVÁ KANCELÁRIA | E2: Ks:
A3: Dodávateľ: | E3: Dátum: 20.08.2019
A4: Stavba Modernizácia domu smútku v obci Bystré
A5: Objekt 01 ASR - stavebné riešenie
A8: Prehľad rozpočtových nákladov
A9: Oddiel | B9: Montáž | C9: Materiál | D9: Spolu | E9: Hmotnosť (T) | F9: Suť (T)
A10: Práce HSV
A11: ZEMNÉ PRÁCE | B11: ='SO 14304'!L13 -> 0 | C11: ='SO 14304'!M13 -> 0 | D11: ='SO 14304'!I13 -> 0 | E11: ='SO 14304'!P13 -> 0 | F11: ='SO 14304'!S13 -> 0
A12: ZÁKLADY | B12: ='SO 14304'!L18 -> 0 | C12: ='SO 14304'!M18 -> 0 | D12: ='SO 14304'!I18 -> 0 | E12: ='SO 14304'!P18 -> 4.26 | F12: ='SO 14304'!S18 -> 3.49
A13: ZVISLÉ KONŠTRUKCIE | B13: ='SO 14304'!L22 -> 0 | C13: ='SO 14304'!M22 -> 0 | D13: ='SO 14304'!I22 -> 0 | E13: ='SO 14304'!P22 -> 1.88 | F13: ='SO 14304'!S22 -> 2.06
A14: VODOROVNÉ KONŠTRUKCIE | B14: ='SO 14304'!L28 -> 0 | C14: ='SO 14304'!M28 -> 0 | D14: ='SO 14304'!I28 -> 0 | E14: ='SO 14304'!P28 -> 0.03 | F14: ='SO 14304'!S28 -> 0.24
A15: POVRCHOVÉ ÚPRAVY | B15: ='SO 14304'!L44 -> 0 | C15: ='SO 14304'!M44 -> 0 | D15: ='SO 14304'!I44 -> 0 | E15: ='SO 14304'!P44 -> 3.25 | F15: ='SO 14304'!S44 -> 4.33
A16: OSTATNÉ PRÁCE | B16: ='SO 14304'!L63 -> 0 | C16: ='SO 14304'!M63 -> 0 | D16: ='SO 14304'!I63 -> 0 | E16: ='SO 14304'!P63 -> 0.01 | F16: ='SO 14304'!S63 -> 0.19
A17: PRESUNY HMÔT | B17: ='SO 14304'!L67 -> 0 | C17: ='SO 14304'!M67 -> 0 | D17: ='SO 14304'!I67 -> 0 | E17: ='SO 14304'!P67 -> 0 | F17: ='SO 14304'!S67 -> 0
A18: Práce HSV | B18: ='SO 14304'!L69 -> 0 | C18: ='SO 14304'!M69 -> 0 | D18: ='SO 14304'!I69 -> 0 | E18: ='SO 14304'!P69 -> 9.43 | F18: ='SO 14304'!S69 -> 10.3
A20: Práce PSV
A21: IZOLÁCIE PROTI VODE A VLHKOSTI | B21: ='SO 14304'!L78 -> 0 | C21: ='SO 14304'!M78 -> 0 | D21: ='SO 14304'!I78 -> 0 | E21: ='SO 14304'!P78 -> 0 | F21: ='SO 14304'!S78 -> 0
A22: DREVOSTAVBY | B22: ='SO 14304'!L85 -> 0 | C22: ='SO 14304'!M85 -> 0 | D22: ='SO 14304'!I85 -> 0 | E22: ='SO 14304'!P85 -> 0.01 | F22: ='SO 14304'!S85 -> 0.03
A23: KOVOVÉ DOPLNKOVÉ KONŠTRUKCIE | B23: ='SO 14304'!L95 -> 0 | C23: ='SO 14304'!M95 -> 0 | D23: ='SO 14304'!I95 -> 0 | E23: ='SO 14304'!P95 -> 0 | F23: ='SO 14304'!S95 -> 0
A24: PODLAHY A OBKLADY KERAMICKÉ-DLAŽBY | B24: ='SO 14304'!L105 -> 0 | C24: ='SO 14304'!M105 -> 0 | D24: ='SO 14304'!I105 -> 0 | E24: ='SO 14304'!P105 -> 0.01 | F24: ='SO 14304'!S105 -> 0.14
A25: MAĽBY | B25: ='SO 14304'!L110 -> 0 | C25: ='SO 14304'!M110 -> 0 | D25: ='SO 14304'!I110 -> 0 | E25: ='SO 14304'!P110 -> 0 | F25: ='SO 14304'!S110 -> 0.01
A26: Práce PSV | B26: ='SO 14304'!L112 -> 0 | C26: ='SO 14304'!M112 -> 0 | D26: ='SO 14304'!I112 -> 0 | E26: ='SO 14304'!S112 -> 0.18 | F26: ='SO 14304'!V112 -> 0
A28: Celkom v EUR | B28: ='SO 14304'!L113 -> 0 | C28: ='SO 14304'!M113 -> 0 | D28: ='SO 14304'!I113 -> 0 | E28: ='SO 14304'!S113 -> 10.48 | F28: ='SO 14304'!V113 -> 0

Sheet SO 14304
B1: Odberateľ: Obec Bystré | I1: Spracoval: Ing. Ján Halgaš | W1: 30.126
B2: Projektant: Ing. Michal Gajdoš, GM-PROJEKTOVÁ KANCELÁRIA | I2: Ks:
B3: Dodávateľ: | I3: Dátum: 20.08.2019
B4: Zákazka Modernizácia domu smútku v obci Bystré
B5: Objekt 01 ASR - stavebné riešenie
B7: Prehľad rozpočtových nákladov
A8: Por.č. | B8: Cenník | C8: Kód položky | D8: Názov | E8: Mj | F8: Množstvo | G8: Cena/Mj | H8: Materiál | I8: Cena celkom | P8: Hmotnosť/Mj | S8: Hmotnosť | V8: Suť
D9: Práce HSV
D10: ZEMNÉ PRÁCE
B11: 1/A 1 | C11: 131211101 | D11: Hĺbenie jám v hornine tr.3 súdržných - ručným náradím | E11: m3 | F11: 1.602 | I11: =ROUND(F11*(G11+H11),2) -> 0 | J11: =ROUND(F11*(N11),2) -> 83.56 | K11: =ROUND(F11*(O11),2) -> 0 | L11: =ROUND(F11*(G11),2) -> 0 | N11: 52.16 | Z11: 0
B12: 1/A 1 | C12: 131211119 | D12: Príplatok za lepivosť pri hĺbení jám ručným náradím v hornine tr. 3 | E12: m3 | F12: 1.602 | I12: =ROUND(F12*(G12+H12),2) -> 0 | J12: =ROUND(F12*(N12),2) -> 16.72 | K12: =ROUND(F12*(O12),2) -> 0 | L12: =ROUND(F12*(G12),2) -> 0 | N12: 10.44 | Z12: 0
D13: ZEMNÉ PRÁCE | H13: =ROUND((SUM(M10:M12))/1,2) -> 0 | I13: =ROUND((SUM(I10:I12))/1,2) -> 0 | L13: =ROUND((SUM(L10:L12))/1,2) -> 0 | M13: =ROUND((SUM(M10:M12))/1,2) -> 0 | P13: =ROUND((SUM(P10:P12))/1,2) -> 0 | S13: =ROUND((SUM(S10:S12))/1,2) -> 0
D15: ZÁKLADY
B16: 2/A 1 | C16: 271571111 | D16: Vankúše zhutnené pod základy zo štrkopiesku | E16: m3 | F16: 0.203 | I16: =ROUND(F16*(G16+H16),2) -> 0 | J16: =ROUND(F16*(N16),2) -> 7.17 | K16: =ROUND(F16*(O16),2) -> 0 | L16: =ROUND(F16*(G16),2) -> 0 | N16: 35.31 | P16: 2.0664 | R16: 2.0664 | S16: =ROUND(F16*(R16),3) -> 0.419 | Z16: 0
B17: 11/A 1 | C17: 275313611 | D17: Betón základových pätiek, prostý tr. C 16/20 | E17: m3 | F17: 1.399 | I17: =ROUND(F17*(G17+H17),2) -> 0 | J17: =ROUND(F17*(N17),2) -> 134.37 | K17: =ROUND(F17*(O17),2) -> 0 | L17: =ROUND(F17*(G17),2) -> 0 | N17: 96.05 | P17: 2.19306 | R17: 2.19306 | S17: =ROUND(F17*(R17),3) -> 3.068 | Z17: 0
D18: ZÁKLADY | H18: =ROUND((SUM(M15:M17))/1,2) -> 0 | I18: =ROUND((SUM(I15:I17))/1,2) -> 0 | L18: =ROUND((SUM(L15:L17))/1,2) -> 0 | M18: =ROUND((SUM(M15:M17))/1,2) -> 0 | P18: =ROUND((SUM(P15:P17))/1,2) -> 4.26 | S18: =ROUND((SUM(S15:S17))/1,2) -> 3.49
D20: ZVISLÉ KONŠTRUKCIE
B21: 14/C 1 | C21: 310239211 | D21: Zamurovanie otvoru s plochou nad 1 do 4 m2 v murive nadzákladného tehlami na maltu vápennocementovú | E21: m3 | F21: 1.098 | I21: =ROUND(F21*(G21+H21),2) -> 0 | J21: =ROUND(F21*(N21),2) -> 208.21 | K21: =ROUND(F21*(O21),2) -> 0 | L21: =ROUND(F21*(G21),2) -> 0 | N21: 189.63 | P21: 1.87515 | R21: 1.87515 | S21: =ROUND(F21*(R21),3) -> 2.059 | Z21: 0
D22: ZVISLÉ KONŠTRUKCIE | H22: =ROUND((SUM(M20:M21))/1,2) -> 0 | I22: =ROUND((SUM(I20:I21))/1,2) -> 0 | L22: =ROUND((SUM(L20:L21))/1,2) -> 0 | M22: =ROUND((SUM(M20:M21))/1,2) -> 0 | P22: =ROUND((SUM(P20:P21))/1,2) -> 1.88 | S22: =ROUND((SUM(S20:S21))/1,2) -> 2.06
D24: VODOROVNÉ KONŠTRUKCIE
B25: 11/A 1 | C25: 411354255 | D25: Debnenie stropu, zabudované s plechom vlnitým pozinkovaným, výšky vľn do 50 mm hr. 0,8 mm | E25: m2 | F25: 22.992 | I25: =ROUND(F25*(G25+H25),2) -> 0 | J25: =ROUND(F25*(N25),2) -> 339.36 | K25: =ROUND(F25*(O25),2) -> 0 | L25: =ROUND(F25*(G25),2) -> 0 | N25: 14.76 | P25: 0.01033 | R25: 0.01033 | S25: =ROUND(F25*(R25),3) -> 0.238 | Z25: 0
B26: 11/A 1 | C26: 413941121 | D26: Osadenie oceľových valcovaných nosníkov I, IE, U, UE, L do č. 12, alebo výšky do 120 mm - naddverový preklad R1 | E26: t | F26: 0.015 | I26: =ROUND(F26*(G26+H26),2) -> 0 | J26: =ROUND(F26*(N26),2) -> 5.65 | K26: =ROUND(F26*(O26),2) -> 0 | L26: =ROUND(F26*(G26),2) -> 0 | N26: 376.59 | P26: 0.01721 | R26: 0.01721 | S26: =ROUND(F26*(R26),3) -> 0 | Z26: 0
B27: M | C27: 133310000401 | D27: Tyč oceľová prierezu L rovnoramenný uholník 65x65x6 mm, ozn. 10 370 | E27: t | F27: 0.015 | I27: =ROUND(F27*(G27+H27),2) -> 0 | J27: =ROUND(F27*(N27),2) -> 11.99 | K27: =ROUND(F27*(O27),2) -> 0 | L27: =ROUND(F27*(G27),2) -> 0 | N27: 799.61 | Z27: 0
D28: VODOROVNÉ KONŠTRUKCIE | H28: =ROUND((SUM(M24:M27))/1,2) -> 0 | I28: =ROUND((SUM(I24:I27))/1,2) -> 0 | L28: =ROUND((SUM(L24:L27))/1,2) -> 0 | M28: =ROUND((SUM(M24:M27))/1,2) -> 0 | P28: =ROUND((SUM(P24:P27))/1,2) -> 0.03 | S28: =ROUND((SUM(S24:S27))/1,2) -> 0.24
D30: POVRCHOVÉ ÚPRAVY
B31: 11/A 1 | C31: 622464222 | D31: Vonkajšia omietka stien tenkovrstvá, silikátová, šúchaná hr. 2 mm | E31: m2 | F31: 3.72 | I31: =ROUND(F31*(G31+H31),2) -> 0 | J31: =ROUND(F31*(N31),2) -> 45.35 | K31: =ROUND(F31*(O31),2) -> 0 | L31: =ROUND(F31*(G31),2) -> 0 | N31: 12.19 | P31: 0.00378 | R31: 0.00378 | S31: =ROUND(F31*(R31),3) -> 0.014 | Z31: 0
B32: 11/A 1 | C32: 622481119 | D32: Potiahnutie vonkajších stien sklotextílnou mriežkou s celoplošným prilepením | E32: m2 | F32: 3.72 | I32: =ROUND(F32*(G32+H32),2) -> 0 | J32: =ROUND(F32*(N32),2) -> 19.05 | K32: =ROUND(F32*(O32),2) -> 0 | L32: =ROUND(F32*(G32),2) -> 0 | N32: 5.12 | P32: 0.00196 | R32: 0.00196 | S32: =ROUND(F32*(R32),3) -> 0.007 | Z32: 0
B33: 11/A 1 | C33: 631312711 | D33: Mazanina z betónu prostého (m3) tr. C 25/30 hr.nad 50 do 80 mm | E33: m3 | F33: 1.84 | I33: =ROUND(F33*(G33+H33),2) -> 0 | J33: =ROUND(F33*(N33),2) -> 248.44 | K33: =ROUND(F33*(O33),2) -> 0 | L33: =ROUND(F33*(G33),2) -> 0 | N33: 135.02 | P33: 2.23957 | R33: 2.23957 | S33: =ROUND(F33*(R33),3) -> 4.121 | Z33: 0
B34: 11/A 1 | C34: 631361821 | D34: Výstuž mazanín z betónov (z kameniva) a z ľahkých betónov z betonárskej ocele 10 505 | E34: t | F34: 0.184 | I34: =ROUND(F34*(G34+H34),2) -> 0 | J34: =ROUND(F34*(N34),2) -> 294.06 | K34: =ROUND(F34*(O34),2) -> 0 | L34: =ROUND(F34*(G34),2) -> 0 | N34: 1598.15 | P34: 1.00885 | R34: 1.00885 | S34: =ROUND(F34*(R34),3) -> 0.186 | Z34: 0
B35: K | C35: 611460121 | D35: Príprava vnútorného podkladu stropov penetráciou základnou | E35: m2 | F35: 28.63 | I35: =ROUND(F35*(G35+H35),2) -> 0 | J35: =ROUND(F35*(N35),2) -> 77.3 | K35: =ROUND(F35*(O35),2) -> 0 | L35: =ROUND(F35*(G35),2) -> 0 | N35: 2.7 | Z35: 0
B36: K | C36: 611460252 | D36: Vnútorná omietka stropov vápennocementová štuková (jemná), hr. 4 mm | E36: m2 | F36: 28.63 | I36: =ROUND(F36*(G36+H36),2) -> 0 | J36: =ROUND(F36*(N36),2) -> 247.65 | K36: =ROUND(F36*(O36),2) -> 0 | L36: =ROUND(F36*(G36),2) -> 0 | N36: 8.65 | Z36: 0
B37: K | C37: 612460121 | D37: Príprava vnútorného podkladu stien penetráciou základnou | E37: m2 | F37: 3.72 | I37: =ROUND(F37*(G37+H37),2) -> 0 | J37: =ROUND(F37*(N37),2) -> 6.84 | K37: =ROUND(F37*(O37),2) -> 0 | L37: =ROUND(F37*(G37),2) -> 0 | N37: 1.84 | Z37: 0
B38: K | C38: 612460243 | D38: Vnútorná omietka stien vápennocementová jadrová (hrubá), hr. 20 mm | E38: m2 | F38: 3.72 | I38: =ROUND(F38*(G38+H38),2) -> 0 | J38: =ROUND(F38*(N38),2) -> 44.49 | K38: =ROUND(F38*(O38),2) -> 0 | L38: =ROUND(F38*(G38),2) -> 0 | N38: 11.96 | Z38: 0
B39: K | C39: 612460251 | D39: Vnútorná omietka stien vápennocementová štuková (jemná), hr. 3 mm | E39: m2 | F39: 3.72 | I39: =ROUND(F39*(G39+H39),2) -> 0 | J39: =ROUND(F39*(N39),2) -> 23.36 | K39: =ROUND(F39*(O39),2) -> 0 | L39: =ROUND(F39*(G39),2) -> 0 | N39: 6.28 | Z39: 0
B40: K | C40: 622460121 | D40: Príprava vonkajšieho podkladu stien penetráciou základnou | E40: m2 | F40: 3.72 | I40: =ROUND(F40*(G40+H40),2) -> 0 | J40: =ROUND(F40*(N40),2) -> 8.97 | K40: =ROUND(F40*(O40),2) -> 0 | L40: =ROUND(F40*(G40),2) -> 0 | N40: 2.41 | Z40: 0
B41: K | C41: 622460243 | D41: Vonkajšia omietka stien vápennocementová jadrová (hrubá), hr. 20 mm | E41: m2 | F41: 3.72 | I41: =ROUND(F41*(G41+H41),2) -> 0 | J41: =ROUND(F41*(N41),2) -> 48.14 | K41: =ROUND(F41*(O41),2) -> 0 | L41: =ROUND(F41*(G41),2) -> 0 | N41: 12.94 | Z41: 0
B42: K | C42: 632450002 | D42: Penetrácia pod poter a pod dlažbu | E42: m2 | F42: 45.984 | I42: =ROUND(F42*(G42+H42),2) -> 0 | J42: =ROUND(F42*(N42),2) -> 29.89 | K42: =ROUND(F42*(O42),2) -> 0 | L42: =ROUND(F42*(G42),2) -> 0 | N42: 0.65 | Z42: 0
B43: K | C43: 632450502 | D43: Cementový poter hr. 5 mm | E43: m2 | F43: 22.992 | I43: =ROUND(F43*(G43+H43),2) -> 0 | J43: =ROUND(F43*(N43),2) -> 137.72 | K43: =ROUND(F43*(O43),2) -> 0 | L43: =ROUND(F43*(G43),2) -> 0 | N43: 5.99 | Z43: 0
D44: POVRCHOVÉ ÚPRAVY | H44: =ROUND((SUM(M30:M43))/1,2) -> 0 | I44: =ROUND((SUM(I30:I43))/1,2) -> 0 | L44: =ROUND((SUM(L30:L43))/1,2) -> 0 | M44: =ROUND((SUM(M30:M43))/1,2) -> 0 | P44: =ROUND((SUM(P30:P43))/1,2) -> 3.25 | S44: =ROUND((SUM(S30:S43))/1,2) -> 4.33
D46: OSTATNÉ PRÁCE
...
