Workbook

Sheet Rekapitulácia
A2: Rekapitulácia rozpočtu | F2: Sadzby DPH
F3: A | G3: B
A4: Stavba Modernizácia domu smútku v obci Bystré | F4: 0.2 | G4: 0
A6: Názov objektu | B6: ZRN | C6: VRN | D6: HZS | E6: Kompl.čin. | F6: Ost. náklady | G6: Cena
A7: 01 ASR - stavebné riešenie | B7: ='SO 14304'!I113-Rekapitulácia!D7 -> 0 | C7: ='Kryci_list 14304'!J26 -> 0 | D7: 0 | E7: ='Kryci_list 14304'!J17 -> 0 | F7: 0 | G7: =B7+C7+D7+E7+F7 -> 0 | K7: ='SO 14304'!K113 -> 0 | Q7: 30.126
A8: Celkom bez DPH | B8: =SUM(B7:B7) -> 0 | C8: =SUM(C7:C7) -> 0 | D8: =SUM(D7:D7) -> 0 | E8: =SUM(E7:E7) -> 0 | F8: =SUM(F7:F7) -> 0 | G8: =SUM(G7:G7)-SUM(Z7:Z7) -> 0
A9: DPH 20% z | B9: =G8-SUM(Rekapitulácia!K7:'Rekapitulácia'!K7)*1 -> 0 | G9: =ROUND(((ROUND(B9,2)*20)/100),2)*1 -> 0
A10: DPH 0% z | B10: =(G8-B9) -> 0 | G10: =ROUND(((ROUND(B10,2)*0)/100),2) -> 0
A11: Celkom v EUR | G11: =SUM(G8:G10) -> 0

Sheet Krycí list stavby
F1: Krycí list stavby | W1: 30.126
B2: Stavba Modernizácia domu smútku v obci Bystré
I3: Miesto:
I4: Ks:
B5: Zákazka: | F5: Spracoval: Ing. Ján Halgaš | I5: Dňa | J5: 20.08.2019
B6: Odberateľ: Obec Bystré
B7: IČO: | G7: DIČ:
B8: Projektant: Ing. Michal Gajdoš, GM-PROJEKTOVÁ KANCELÁRIA
B9: IČO: | G9: DIČ:
B10: Dodávateľ:
B11: IČO: | G11: DIČ:
B15: A | C15: ZRN | D15: Montáž | E15: Materiál | F15: ZRN spolu | G15: B | H15: Ďalšie náklady
B16: 1 | C16: HSV | D16: ='Kryci_list 14304'!D16 -> 0 | E16: ='Kryci_list 14304'!E16 -> 0 | F16: ='Kryci_list 14304'!F16 -> 0 | G16: 6 | H16: Ostatné náklady | J16: =Rekapitulácia!F8 -> 0
B17: 2 | C17: PSV | D17: ='Kryci_list 14304'!D17 -> 0 | E17: ='Kryci_list 14304'!E17 -> 0 | F17: ='Kryci_list 14304'!F17 -> 0 | G17: 7 | H17: Kompletačná činnosť | J17: =Rekapitulácia!E8 -> 0
B18: 3 | C18: MONT | D18: ='Kryci_list 14304'!D18 -> 0 | E18: ='Kryci_list 14304'!E18 -> 0 | F18: ='Kryci_list 14304'!F18 -> 0 | G18: 8 | H18: HZS | J18: =Rekapitulácia!D8 -> 0
B19: 4 | G19: 9
B20: 5 | C20: Spolu | F20: =SUM(F16:F19) -> 0 | G20: 10 | H20: Spolu | J20: =SUM(J16:J19) -> 0
B21: C | C21: VRN | G21: D | H21: VRN
B22: 11 | C22: Zariadenie staveniska | F22: ='Kryci_list 14304'!F22 -> 0 | G22: 16 | H22: Sťažené podmienky dopravy | J22: ='Kryci_list 14304'!J22 -> 0
B23: 12 | C23: Sťažené výrobné podmienky | F23: ='Kryci_list 14304'!F23 -> 0 | G23: 17 | H23: Horské oblasti | J23: ='Kryci_list 14304'!J23 -> 0
B24: 13 | C24: Prevádzkové vplyvy | F24: ='Kryci_list 14304'!F24 -> 0 | G24: 18 | H24: Mimostavenisková doprava | J24: ='Kryci_list 14304'!J24 -> 0
B25: 14 | G25: 19
B26: 15 | G26: 20 | H26: Spolu | J26: =SUM(J22:J25)+SUM(F22:F25) -> 0
C27: Projektant,rozpočtár | G27: E | H27: Celkové náklady
G28: 21 | H28: Súčet riadkov 5,10,15,20 | J28: =F20+J20+F26+J26 -> 0
G29: 22 | H29: DPH 20% z | I29: =Rekapitulácia!B9 -> 0 | J29: =ROUND(((ROUND(I29,2)*20)/100),2)*1 -> 0
G30: 23 | H30: DPH 0% z | I30: =Rekapitulácia!B10 -> 0 | J30: =ROUND(((ROUND(I30,2)*0)/100),2) -> 0
G31: 24 | H31: Spolu v EUR | J31: =SUM(J28:J30) -> 0
G32: F
D33: Odberateľ | H33: Dodávateľ

Sheet Kryci_list 14304
F1: Krycí list rozpočtu | W1: 30.126
B2: Stavba Modernizácia domu smútku v obci Bystré
B3: Objekt 01 ASR - stavebné riešenie | I3: Miesto:
I4: Ks:
B5: Zákazka: | F5: Spracoval: Ing. Ján Halgaš | I5: Dňa | J5: 20.08.2019
B6: Odberateľ: Obec Bystré
B7: IČO: | G7: DIČ:
B8: Projektant: Ing. Michal Gajdoš, GM-PROJEKTOVÁ KANCELÁRIA
B9: IČO: | G9: DIČ:
B10: Dodávateľ:
B11: IČO: | G11: DIČ:
B15: A | C15: ZRN | D15: Montáž | E15: Materiál | F15: ZRN spolu | G15: B | H15: Ďalšie náklady
B16: 1 | C16: HSV | D16: ='Rekap 14304'!B18 -> 0 | E16: ='Rekap 14304'!C18 -> 0 | F16: ='Rekap 14304'!D18 -> 0 | G16: 6 | H16: Ostatné náklady | J16: 0
B17: 2 | C17: PSV | D17: ='Rekap 14304'!B26 -> 0 | E17: ='Rekap 14304'!C26 -> 0 | F17: ='Rekap 14304'!D26 -> 0 | G17: 7 | H17: Kompletačná činnosť | J17: ='SO 14304'!Z113 -> 0
B18: 3 | C18: MONT | G18: 8 | H18: HZS | J18: 0
B19: 4 | G19: 9
B20: 5 | C20: Spolu | F20: =SUM(F16:F19) -> 0 | G20: 10 | H20: Spolu | J20: =SUM(J16:J19) -> 0
B21: C | C21: VRN | G21: D | H21: VRN
B22: 11 | C22: Zariadenie staveniska | E22: 0% z [H+P+M] | F22: =((F16*U22*0)+(F17*V22*0)+(F18*W22*0))/100 -> 0 | G22: 16 | H22: Sťažené podmienky dopravy | I22: 0% z [H+P+M] | J22: =((F16*X22*0)+(F17*Y22*0)+(F18*Z22*0))/100 -> 0 | U22: 1 | V22: 1 | W22: 1 | X22: 1 | Y22: 1 | Z22: 1
B23: 12 | C23: Sťažené výrobné podmienky | E23: 0% z [H+P] | F23: =((F16*U23*0)+(F17*V23*0)+(F18*W23*0))/100 -> 0 | G23: 17 | H23: Horské oblasti | I23: 0% z [H+P+M] | J23: =((F16*X23*0)+(F17*Y23*0)+(F18*Z23*0))/100 -> 0 | U23: 1 | V23: 1 | W23: 0 | X23: 1 | Y23: 1 | Z23: 1
B24: 13 | C24: Prevádzkové vplyvy | E24: 0% z [H+P+M] | F24: =((F16*U24*0)+(F17*V24*0)+(F18*W24*0))/100 -> 0 | G24: 18 | H24: Mimostavenisková doprava | I24: 0% z [H+P] | J24: =((F16*X24*0)+(F17*Y24*0)+(F18*Z24*0))/100 -> 0 | U24: 1 | V24: 1 | W24: 1 | X24: 1 | Y24: 1 | Z24: 0
B25: 14 | G25: 19
B26: 15 | G26: 20 | H26: Spolu | J26: =SUM(J22:J25)+SUM(F22:F25) -> 0
C27: Projektant,rozpočtár | G27: E | H27: Celkové náklady
G28: 21 | H28: Súčet riadkov 5,10,15,20 | J28: =F20+J20+F26+J26 -> 0
G29: 22 | H29: DPH 20% z | I29: =J28-SUM('SO 14304'!K9:'SO 14304'!K112) -> 0 | J29: =ROUND(((ROUND(I29,2)*20)*1/100),2) -> 0
G30: 23 | H30: DPH 0% z | I30: =SUM('SO 14304'!K9:'SO 14304'!K112) -> 0 | J30: =ROUND(((ROUND(I30,2)*0)/100),2) -> 0
G31: 24 | H31: Spolu v EUR | J31: =SUM(J28:J30) -> 0
G32: F
D33: Odberateľ | G33: 26 | H33: Dodávateľ

Sheet Rekap 14304
A1: Odberateľ: Obec Bystré | E1: Spracoval: Ing. Ján Halgaš | W1: 30.126
A2: Projektant: Ing. Michal Gajdoš, GM-PROJEKTOVÁ KANCELÁRIA | E2: Ks:
A3: Dodávateľ: | E3: Dátum: 20.08.2019
A4: Stavba Modernizácia domu smútku v obci Bystré
A5: Objekt 01 ASR - stavebné riešenie
A8: Prehľad rozpočtových nákladov
A9: Oddiel | B9: Montáž | C9: Materiál | D9: Spolu | E9: Hmotnosť (T) | F9: Suť (T)
A10: Práce HSV
A11: ZEMNÉ PRÁCE | B11: ='SO 14304'!L13 -> 0 | C11: ='SO 14304'!M13 -> 0 | D11: ='SO 14304'!I13 -> 0 | E11: ='SO 14304'!P13 -> 0 | F11: ='SO 14304'!S13 -> 0
A12: ZÁKLADY | B12: ='SO 14304'!L18 -> 0 | C12: ='SO 14304'!M18 -> 0 | D12: ='SO 14304'!I18 -> 0 | E12: ='SO 14304'!P18 -> 4.26 | F12: ='SO 14304'!S18 -> 3.49
A13: ZVISLÉ KONŠTRUKCIE | B13: ='SO 14304'!L22 -> 0 | C13: ='SO 14304'!M22 -> 0 | D13: ='SO 14304'!I22 -> 0 | E13: ='SO 14304'!P22 -> 1.88 | F13: ='SO 14304'!S22 -> 2.06
A14: VODOROVNÉ KONŠTRUKCIE | B14: ='SO 14304'!L28 -> 0 | C14: ='SO 14304'!M28 -> 0 | D14: ='SO 14304'!I28 -> 0 | E14: ='SO 14304'!P28 -> 0.03 | F14: ='SO 14304'!S28 -> 0.24
A15: POVRCHOVÉ ÚPRAVY | B15: ='SO 14304'!L44 -> 0 | C15: ='SO 14304'!M44 -> 0 | D15: ='SO 14304'!I44 -> 0 | E15: ='SO 14304'!P44 -> 3.25 | F15: ='SO 14304'!S44 -> 4.33
A16: OSTATNÉ PRÁCE | B16: ='SO 14304'!L63 -> 0 | C16: ='SO 14304'!M63 -> 0 | D16: ='SO 14304'!I63 -> 0 | E16: ='SO 14304'!P63 -> 0.01 | F16: ='SO 14304'!S63 -> 0.19
A17: PRESUNY HMÔT | B17: ='SO 14304'!L67 -> 0 | C17: ='SO 14304'!M67 -> 0 | D17: ='SO 14304'!I67 -> 0 | E17: ='SO 14304'!P67 -> 0 | F17: ='SO 14304'!S67 -> 0
A18: Práce HSV | B18: ='SO 14304'!L69 -> 0 | C18: ='SO 14304'!M69 -> 0 | D18: ='SO 14304'!I69 -> 0 | E18: ='SO 14304'!P69 -> 9.43 | F18: ='SO 14304'!S69 -> 10.3
A20: Práce PSV
A21: IZOLÁCIE PROTI VODE A VLHKOSTI | B21: ='SO 14304'!L78 -> 0 | C21: ='SO 14304'!M78 -> 0 | D21: ='SO 14304'!I78 -> 0 | E21: ='SO 14304'!P78 -> 0 | F21: ='SO 14304'!S78 -> 0
A22: DREVOSTAVBY | B22: ='SO 14304'!L85 -> 0 | C22: ='SO 14304'!M85 -> 0 | D22: ='SO 14304'!I85 -> 0 | E22: ='SO 14304'!P85 -> 0.01 | F22: ='SO 14304'!S85 -> 0.03
A23: KOVOVÉ DOPLNKOVÉ KONŠTRUKCIE | B23: ='SO 14304'!L95 -> 0 | C23: ='SO 14304'!M95 -> 0 | D23: ='SO 14304'!I95 -> 0 | E23: ='SO 14304'!P95 -> 0 | F23: ='SO 14304'!S95 -> 0
A24: PODLAHY A OBKLADY KERAMICKÉ-DLAŽBY | B24: ='SO 14304'!L105 -> 0 | C24: ='SO 14304'!M105 -> 0 | D24: ='SO 14304'!I105 -> 0 | E24: ='SO 14304'!P105 -> 0.01 | F24: ='SO 14304'!S105 -> 0.14
A25: MAĽBY | B25: ='SO 14304'!L110 -> 0 | C25: ='SO 14304'!M110 -> 0 | D25: ='SO 14304'!I110 -> 0 | E25: ='SO 14304'!P110 -> 0 | F25: ='SO 14304'!S110 -> 0.01
A26: Práce PSV | B26: ='SO 14304'!L112 -> 0 | C26: ='SO 14304'!M112 -> 0 | D26: ='SO 14304'!I112 -> 0 | E26: ='SO 14304'!S112 -> 0.18 | F26: ='SO 14304'!V112 -> 0
A28: Celkom v EUR | B28: ='SO 14304'!L113 -> 0 | C28: ='SO 14304'!M113 -> 0 | D28: ='SO 14304'!I113 -> 0 | E28: ='SO 14304'!S113 -> 10.48 | F28: ='SO 14304'!V113 -> 0

Sheet SO 14304
B1: Odberateľ: Obec Bystré | I1: Spracoval: Ing. Ján Halgaš | W1: 30.126
B2: Projektant: Ing. Michal Gajdoš, GM-PROJEKTOVÁ KANCELÁRIA | I2: Ks:
B3: Dodávateľ: | I3: Dátum: 20.08.2019
B4: Zákazka Modernizácia domu smútku v obci Bystré
B5: Objekt 01 ASR - stavebné riešenie
B7: Prehľad rozpočtových nákladov
A8: Por.č. | B8: Cenník | C8: Kód položky | D8: Názov | E8: Mj | F8: Množstvo | G8: Cena/Mj | H8: Materiál | I8: Cena celkom | P8: Hmotnosť/Mj | S8: Hmotnosť | V8: Suť
D9: Práce HSV
D10: ZEMNÉ PRÁCE
B11: 1/A 1 | C11: 131211101 | D11: Hĺbenie jám v hornine tr.3 súdržných - ručným náradím | E11: m3 | F11: 1.602 | I11: =ROUND(F11*(G11+H11),2) -> 0 | J11: =ROUND(F11*(N11),2) -> 83.56 | K11: =ROUND(F11*(O11),2) -> 0 | L11: =ROUND(F11*(G11),2) -> 0 | N11: 52.16 | Z11: 0
B12: 1/A 1 | C12: 131211119 | D12: Príplatok za lepivosť pri hĺbení jám ručným náradím v hornine tr. 3 | E12: m3 | F12: 1.602 | I12: =ROUND(F12*(G12+H12),2) -> 0 | J12: =ROUND(F12*(N12),2) -> 16.72 | K12: =ROUND(F12*(O12),2) -> 0 | L12: =ROUND(F12*(G12),2) -> 0 | N12: 10.44 | Z12: 0
D13: ZEMNÉ PRÁCE | H13: =ROUND((SUM(M10:M12))/1,2) -> 0 | I13: =ROUND((SUM(I10:I12))/1,2) -> 0 | L13: =ROUND((SUM(L10:L12))/1,2) -> 0 | M13: =ROUND((SUM(M10:M12))/1,2) -> 0 | P13: =ROUND((SUM(P10:P12))/1,2) -> 0 | S13: =ROUND((SUM(S10:S12))/1,2) -> 0
D15: ZÁKLADY
B16: 2/A 1 | C16: 271571111 | D16: Vankúše zhutnené pod základy zo štrkopiesku | E16: m3 | F16: 0.203 | I16: =ROUND(F16*(G16+H16),2) -> 0 | J16: =ROUND(F16*(N16),2) -> 7.17 | K16: =ROUND(F16*(O16),2) -> 0 | L16: =ROUND(F16*(G16),2) -> 0 | N16: 35.31 | P16: 2.0664 | R16: 2.0664 | S16: =ROUND(F16*(R16),3) -> 0.419 | Z16: 0
B17: 11/A 1 | C17: 275313611 | D17: Betón základových pätiek, prostý tr. C 16/20 | E17: m3 | F17: 1.399 | I17: =ROUND(F17*(G17+H17),2) -> 0 | J17: =ROUND(F17*(N17),2) -> 134.37 | K17: =ROUND(F17*(O17),2) -> 0 | L17: =ROUND(F17*(G17),2) -> 0 | N17: 96.05 | P17: 2.19306 | R17: 2.19306 | S17: =ROUND(F17*(R17),3) -> 3.068 | Z17: 0
D18: ZÁKLADY | H18: =ROUND((SUM(M15:M17))/1,2) -> 0 | I18: =ROUND((SUM(I15:I17))/1,2) -> 0 | L18: =ROUND((SUM(L15:L17))/1,2) -> 0 | M18: =ROUND((SUM(M15:M17))/1,2) -> 0 | P18: =ROUND((SUM(P15:P17))/1,2) -> 4.26 | S18: =ROUND((SUM(S15:S17))/1,2) -> 3.49
D20: ZVISLÉ KONŠTRUKCIE
B21: 14/C 1 | C21: 310239211 | D21: Zamurovanie otvoru s plochou nad 1 do 4 m2 v murive nadzákladného tehlami na maltu vápennocementovú | E21: m3 | F21: 1.098 | I21: =ROUND(F21*(G21+H21),2) -> 0 | J21: =ROUND(F21*(N21),2) -> 208.21 | K21: =ROUND(F21*(O21),2) -> 0 | L21: =ROUND(F21*(G21),2) -> 0 | N21: 189.63 | P21: 1.87515 | R21: 1.87515 | S21: =ROUND(F21*(R21),3) -> 2.059 | Z21: 0
D22: ZVISLÉ KONŠTRUKCIE | H22: =ROUND((SUM(M20:M21))/1,2) -> 0 | I22: =ROUND((SUM(I20:I21))/1,2) -> 0 | L22: =ROUND((SUM(L20:L21))/1,2) -> 0 | M22: =ROUND((SUM(M20:M21))/1,2) -> 0 | P22: =ROUND((SUM(P20:P21))/1,2) -> 1.88 | S22: =ROUND((SUM(S20:S21))/1,2) -> 2.06
D24: VODOROVNÉ KONŠTRUKCIE
B25: 11/A 1 | C25: 411354255 | D25: Debnenie stropu, zabudované s plechom vlnitým pozinkovaným, výšky vľn do 50 mm hr. 0,8 mm | E25: m2 | F25: 22.992 | I25: =ROUND(F25*(G25+H25),2) -> 0 | J25: =ROUND(F25*(N25),2) -> 339.36 | K25: =ROUND(F25*(O25),2) -> 0 | L25: =ROUND(F25*(G25),2) -> 0 | N25: 14.76 | P25: 0.01033 | R25: 0.01033 | S25: =ROUND(F25*(R25),3) -> 0.238 | Z25: 0
B26: 11/A 1 | C26: 413941121 | D26: Osadenie oceľových valcovaných nosníkov I, IE, U, UE, L do č. 12, alebo výšky do 120 mm - naddverový preklad R1 | E26: t | F26: 0.015 | I26: =ROUND(F26*(G26+H26),2) -> 0 | J26: =ROUND(F26*(N26),2) -> 5.65 | K26: =ROUND(F26*(O26),2) -> 0 | L26: =ROUND(F26*(G26),2) -> 0 | N26: 376.59 | P26: 0.01721 | R26: 0.01721 | S26: =ROUND(F26*(R26),3) -> 0 | Z26: 0
B27: M | C27: 133310000401 | D27: Tyč oceľová prierezu L rovnoramenný uholník 65x65x6 mm, ozn. 10 370 | E27: t | F27: 0.015 | I27: =ROUND(F27*(G27+H27),2) -> 0 | J27: =ROUND(F27*(N27),2) -> 11.99 | K27: =ROUND(F27*(O27),2) -> 0 | L27: =ROUND(F27*(G27),2) -> 0 | N27: 799.61 | Z27: 0
D28: VODOROVNÉ KONŠTRUKCIE | H28: =ROUND((SUM(M24:M27))/1,2) -> 0 | I28: =ROUND((SUM(I24:I27))/1,2) -> 0 | L28: =ROUND((SUM(L24:L27))/1,2) -> 0 | M28: =ROUND((SUM(M24:M27))/1,2) -> 0 | P28: =ROUND((SUM(P24:P27))/1,2) -> 0.03 | S28: =ROUND((SUM(S24:S27))/1,2) -> 0.24
D30: POVRCHOVÉ ÚPRAVY
B31: 11/A 1 | C31: 622464222 | D31: Vonkajšia omietka stien tenkovrstvá, silikátová, šúchaná hr. 2 mm | E31: m2 | F31: 3.72 | I31: =ROUND(F31*(G31+H31),2) -> 0 | J31: =ROUND(F31*(N31),2) -> 45.35 | K31: =ROUND(F31*(O31),2) -> 0 | L31: =ROUND(F31*(G31),2) -> 0 | N31: 12.19 | P31: 0.00378 | R31: 0.00378 | S31: =ROUND(F31*(R31),3) -> 0.014 | Z31: 0
B32: 11/A 1 | C32: 622481119 | D32: Potiahnutie vonkajších stien sklotextílnou mriežkou s celoplošným prilepením | E32: m2 | F32: 3.72 | I32: =ROUND(F32*(G32+H32),2) -> 0 | J32: =ROUND(F32*(N32),2) -> 19.05 | K32: =ROUND(F32*(O32),2) -> 0 | L32: =ROUND(F32*(G32),2) -> 0 | N32: 5.12 | P32: 0.00196 | R32: 0.00196 | S32: =ROUND(F32*(R32),3) -> 0.007 | Z32: 0
B33: 11/A 1 | C33: 631312711 | D33: Mazanina z betónu prostého (m3) tr. C 25/30 hr.nad 50 do 80 mm | E33: m3 | F33: 1.84 | I33: =ROUND(F33*(G33+H33),2) -> 0 | J33: =ROUND(F33*(N33),2) -> 248.44 | K33: =ROUND(F33*(O33),2) -> 0 | L33: =ROUND(F33*(G33),2) -> 0 | N33: 135.02 | P33: 2.23957 | R33: 2.23957 | S33: =ROUND(F33*(R33),3) -> 4.121 | Z33: 0
B34: 11/A 1 | C34: 631361821 | D34: Výstuž mazanín z betónov (z kameniva) a z ľahkých betónov z betonárskej ocele 10 505 | E34: t | F34: 0.184 | I34: =ROUND(F34*(G34+H34),2) -> 0 | J34: =ROUND(F34*(N34),2) -> 294.06 | K34: =ROUND(F34*(O34),2) -> 0 | L34: =ROUND(F34*(G34),2) -> 0 | N34: 1598.15 | P34: 1.00885 | R34: 1.00885 | S34: =ROUND(F34*(R34),3) -> 0.186 | Z34: 0
B35: K | C35: 611460121 | D35: Príprava vnútorného podkladu stropov penetráciou základnou | E35: m2 | F35: 28.63 | I35: =ROUND(F35*(G35+H35),2) -> 0 | J35: =ROUND(F35*(N35),2) -> 77.3 | K35: =ROUND(F35*(O35),2) -> 0 | L35: =ROUND(F35*(G35),2) -> 0 | N35: 2.7 | Z35: 0
B36: K | C36: 611460252 | D36: Vnútorná omietka stropov vápennocementová štuková (jemná), hr. 4 mm | E36: m2 | F36: 28.63 | I36: =ROUND(F36*(G36+H36),2) -> 0 | J36: =ROUND(F36*(N36),2) -> 247.65 | K36: =ROUND(F36*(O36),2) -> 0 | L36: =ROUND(F36*(G36),2) -> 0 | N36: 8.65 | Z36: 0
B37: K | C37: 612460121 | D37: Príprava vnútorného podkladu stien penetráciou základnou | E37: m2 | F37: 3.72 | I37: =ROUND(F37*(G37+H37),2) -> 0 | J37: =ROUND(F37*(N37),2) -> 6.84 | K37: =ROUND(F37*(O37),2) -> 0 | L37: =ROUND(F37*(G37),2) -> 0 | N37: 1.84 | Z37: 0
B38: K | C38: 612460243 | D38: Vnútorná omietka stien vápennocementová jadrová (hrubá), hr. 20 mm | E38: m2 | F38: 3.72 | I38: =ROUND(F38*(G38+H38),2) -> 0 | J38: =ROUND(F38*(N38),2) -> 44.49 | K38: =ROUND(F38*(O38),2) -> 0 | L38: =ROUND(F38*(G38),2) -> 0 | N38: 11.96 | Z38: 0
B39: K | C39: 612460251 | D39: Vnútorná omietka stien vápennocementová štuková (jemná), hr. 3 mm | E39: m2 | F39: 3.72 | I39: =ROUND(F39*(G39+H39),2) -> 0 | J39: =ROUND(F39*(N39),2) -> 23.36 | K39: =ROUND(F39*(O39),2) -> 0 | L39: =ROUND(F39*(G39),2) -> 0 | N39: 6.28 | Z39: 0
B40: K | C40: 622460121 | D40: Príprava vonkajšieho podkladu stien penetráciou základnou | E40: m2 | F40: 3.72 | I40: =ROUND(F40*(G40+H40),2) -> 0 | J40: =ROUND(F40*(N40),2) -> 8.97 | K40: =ROUND(F40*(O40),2) -> 0 | L40: =ROUND(F40*(G40),2) -> 0 | N40: 2.41 | Z40: 0
B41: K | C41: 622460243 | D41: Vonkajšia omietka stien vápennocementová jadrová (hrubá), hr. 20 mm | E41: m2 | F41: 3.72 | I41: =ROUND(F41*(G41+H41),2) -> 0 | J41: =ROUND(F41*(N41),2) -> 48.14 | K41: =ROUND(F41*(O41),2) -> 0 | L41: =ROUND(F41*(G41),2) -> 0 | N41: 12.94 | Z41: 0
B42: K | C42: 632450002 | D42: Penetrácia pod poter a pod dlažbu | E42: m2 | F42: 45.984 | I42: =ROUND(F42*(G42+H42),2) -> 0 | J42: =ROUND(F42*(N42),2) -> 29.89 | K42: =ROUND(F42*(O42),2) -> 0 | L42: =ROUND(F42*(G42),2) -> 0 | N42: 0.65 | Z42: 0
B43: K | C43: 632450502 | D43: Cementový poter hr. 5 mm | E43: m2 | F43: 22.992 | I43: =ROUND(F43*(G43+H43),2) -> 0 | J43: =ROUND(F43*(N43),2) -> 137.72 | K43: =ROUND(F43*(O43),2) -> 0 | L43: =ROUND(F43*(G43),2) -> 0 | N43: 5.99 | Z43: 0
D44: POVRCHOVÉ ÚPRAVY | H44: =ROUND((SUM(M30:M43))/1,2) -> 0 | I44: =ROUND((SUM(I30:I43))/1,2) -> 0 | L44: =ROUND((SUM(L30:L43))/1,2) -> 0 | M44: =ROUND((SUM(M30:M43))/1,2) -> 0 | P44: =ROUND((SUM(P30:P43))/1,2) -> 3.25 | S44: =ROUND((SUM(S30:S43))/1,2) -> 4.33
D46: OSTATNÉ PRÁCE
B47: 3/A 1 | C47: 941955003 | D47: Lešenie ľahké pracovné pomocné s výškou lešeňovej podlahy nad 1,90 do 2,50 m | E47: m2 | F47: 30 | I47: =ROUND(F47*(G47+H47),2) -> 0 | J47: =ROUND(F47*(N47),2) -> 194.1 | K47: =ROUND(F47*(O47),2) -> 0 | L47: =ROUND(F47*(G47),2) -> 0 | N47: 6.47 | P47: 0.00618 | R47: 0.00618 | S47: =ROUND(F47*(R47),3) -> 0.185 | Z47: 0
B48: 13/B 1 | C48: 965042121 | D48: Búranie podkladov pod dlažby, liatych dlažieb a mazanín,betón alebo liaty asfalt hr.do 100 mm, plochy do 1 m2 -2,20000t | E48: m3 | F48: 0.23 | I48: =ROUND(F48*(G48+H48),2) -> 0 | J48: =ROUND(F48*(N48),2) -> 28.48 | K48: =ROUND(F48*(O48),2) -> 0 | L48: =ROUND(F48*(G48),2) -> 0 | N48: 123.82 | Z48: 0
B49: 13/B 1 | C49: 965081712 | D49: Búranie dlažieb, bez podklad. lôžka z xylolit., alebo keramických dlaždíc hr. do 10 mm, -0,02000t | E49: m2 | F49: 0.38 | I49: =ROUND(F49*(G49+H49),2) -> 0 | J49: =ROUND(F49*(N49),2) -> 0.76 | K49: =ROUND(F49*(O49),2) -> 0 | L49: =ROUND(F49*(G49),2) -> 0 | N49: 2 | Z49: 0
B50: 13/B 1 | C50: 965081812 | D50: Búranie dlažieb, z kamen., cement., terazzových, čadičových alebo keramických, hr. nad 10 mm, -0,06500t | E50: m2 | F50: 1.92 | I50: =ROUND(F50*(G50+H50),2) -> 0 | J50: =ROUND(F50*(N50),2) -> 6.72 | K50: =ROUND(F50*(O50),2) -> 0 | L50: =ROUND(F50*(G50),2) -> 0 | N50: 3.5 | Z50: 0
B51: 13/B 1 | C51: 971033651 | D51: Vybúranie otvorov v murive tehl. plochy do 4 m2 hr. do 600 mm, -1,87500t | E51: m3 | F51: 0.84 | I51: =ROUND(F51*(G51+H51),2) -> 0 | J51: =ROUND(F51*(N51),2) -> 45.01 | K51: =ROUND(F51*(O51),2) -> 0 | L51: =ROUND(F51*(G51),2) -> 0 | N51: 53.58 | Z51: 0
B52: 13/B 1 | C52: 973031335 | D52: Vysekanie kapsy z tehál plochy do 0,25 m2, hl. do 300 mm, -0,08000t | E52: ks | F52: 1 | I52: =ROUND(F52*(G52+H52),2) -> 0 | J52: =ROUND(F52*(N52),2) -> 10.19 | K52: =ROUND(F52*(O52),2) -> 0 | L52: =ROUND(F52*(G52),2) -> 0 | N52: 10.19 | Z52: 0
B53: 13/B 1 | C53: 973031336 | D53: Vysekanie kapsy z tehál plochy do 0,25 m2, hl. do 450 mm, -0,12600t | E53: ks | F53: 2 | I53: =ROUND(F53*(G53+H53),2) -> 0 | J53: =ROUND(F53*(N53),2) -> 23.66 | K53: =ROUND(F53*(O53),2) -> 0 | L53: =ROUND(F53*(G53),2) -> 0 | N53: 11.83 | Z53: 0
B54: 13/B 1 | C54: 979011131 | D54: Zvislá doprava sutiny po schodoch ručne do 3,5 m | E54: t | F54: 2.821 | I54: =ROUND(F54*(G54+H54),2) -> 0 | J54: =ROUND(F54*(N54),2) -> 59.55 | K54: =ROUND(F54*(O54),2) -> 0 | L54: =ROUND(F54*(G54),2) -> 0 | N54: 21.11 | Z54: 0
B55: 13/B 1 | C55: 979081111 | D55: Odvoz sutiny a vybúraných hmôt na skládku do 1 km | E55: t | F55: 2.821 | I55: =ROUND(F55*(G55+H55),2) -> 0 | J55: =ROUND(F55*(N55),2) -> 34.78 | K55: =ROUND(F55*(O55),2) -> 0 | L55: =ROUND(F55*(G55),2) -> 0 | N55: 12.33 | Z55: 0
B56: 13/B 1 | C56: 979081121 | D56: Odvoz sutiny a vybúraných hmôt na skládku za každý ďalší 1 km | E56: t | F56: 56.42 | I56: =ROUND(F56*(G56+H56),2) -> 0 | J56: =ROUND(F56*(N56),2) -> 22 | K56: =ROUND(F56*(O56),2) -> 0 | L56: =ROUND(F56*(G56),2) -> 0 | N56: 0.39 | Z56: 0
B57: 13/B 1 | C57: 979082111 | D57: Vnútrostavenisková doprava sutiny a vybúraných hmôt do 10 m | E57: t | F57: 2.821 | I57: =ROUND(F57*(G57+H57),2) -> 0 | J57: =ROUND(F57*(N57),2) -> 26.88 | K57: =ROUND(F57*(O57),2) -> 0 | L57: =ROUND(F57*(G57),2) -> 0 | N57: 9.53 | Z57: 0
B58: 13/B 1 | C58: 979082121 | D58: Vnútrostavenisková doprava sutiny a vybúraných hmôt za každých ďalších 5 m | E58: t | F58: 5.642 | I58: =ROUND(F58*(G58+H58),2) -> 0 | J58: =ROUND(F58*(N58),2) -> 6.04 | K58: =ROUND(F58*(O58),2) -> 0 | L58: =ROUND(F58*(G58),2) -> 0 | N58: 1.07 | Z58: 0
B59: 13/B 1 | C59: 979089012 | D59: Poplatok za skladovanie - betón, tehly, dlaždice (17 01) ostatné | E59: t | F59: 2.821 | I59: =ROUND(F59*(G59+H59),2) -> 0 | J59: =ROUND(F59*(N59),2) -> 42.32 | K59: =ROUND(F59*(O59),2) -> 0 | L59: =ROUND(F59*(G59),2) -> 0 | N59: 15 | Z59: 0
... B62: K | C62: 978015291 | D62: Otlčenie omietok vonkajších, v rozsahu do 100 %, -0,05900t | E62: m2 | F62: 2.1 | I62: =ROUND(F62*(G62+H62),2) -> 0 | J62: =ROUND(F62*(N62),2) -> 4.39 | K62: =ROUND(F62*(O62),2) -> 0 | L62: =ROUND(F62*(G62),2) -> 0 | N62: 2.09 | Z62: 0
D63: OSTATNÉ PRÁCE | H63: =ROUND((SUM(M46:M62))/1,2) -> 0 | I63: =ROUND((SUM(I46:I62))/1,2) -> 0 | L63: =ROUND((SUM(L46:L62))/1,2) -> 0 | M63: =ROUND((SUM(M46:M62))/1,2) -> 0 | P63: =ROUND((SUM(P46:P62))/1,2) -> 0.01 | S63: =ROUND((SUM(S46:S62))/1,2) -> 0.19
D65: PRESUNY HMÔT
B66: 14/C 1 | C66: 999281111 | D66: Presun hmôt pre opravy a údržbu objektov vrátane vonkajších plášťov výšky do 25 m | E66: t | F66: 11.534 | I66: =ROUND(F66*(G66+H66),2) -> 0 | J66: =ROUND(F66*(N66),2) -> 334.49 | K66: =ROUND(F66*(O66),2) -> 0 | L66: =ROUND(F66*(G66),2) -> 0 | N66: 29 | Z66: 0
D67: PRESUNY HMÔT | H67: =ROUND((SUM(M65:M66))/1,2) -> 0 | I67: =ROUND((SUM(I65:I66))/1,2) -> 0 | L67: =ROUND((SUM(L65:L66))/1,2) -> 0 | M67: =ROUND((SUM(M65:M66))/1,2) -> 0 | P67: =ROUND((SUM(P65:P66))/1,2) -> 0 | S67: =ROUND((SUM(S65:S66))/1,2) -> 0
D69: Práce HSV | H69: =ROUND((SUM(M9:M68))/2,2) -> 0 | I69: =ROUND((SUM(I9:I68))/2,2) -> 0 | L69: =ROUND((SUM(L9:L68))/2,2) -> 0 | M69: =ROUND((SUM(M9:M68))/2,2) -> 0 | P69: =ROUND((SUM(P9:P68))/2,2) -> 9.43 | S69: =ROUND((SUM(S9:S68))/2,2) -> 10.3
D71: Práce PSV
D72: IZOLÁCIE PROTI VODE A VLHKOSTI
B73: 711/A 1 | C73: 711111001 | D73: Zhotovenie izolácie proti zemnej vlhkosti vodorovná náterom penetračným za studena | E73: m2 | F73: 1 | I73: =ROUND(F73*(G73+H73),2) -> 0 | J73: =ROUND(F73*(N73),2) -> 0.22 | K73: =ROUND(F73*(O73),2) -> 0 | L73: =ROUND(F73*(G73),2) -> 0 | N73: 0.22 | Z73: 0
B74: 711/A 1 | C74: 711141559 | D74: Zhotovenie izolácie proti zemnej vlhkosti a tlakovej vode vodorovná NAIP pritavením | E74: m2 | F74: 1 | I74: =ROUND(F74*(G74+H74),2) -> 0 | J74: =ROUND(F74*(N74),2) -> 3.88 | K74: =ROUND(F74*(O74),2) -> 0 | L74: =ROUND(F74*(G74),2) -> 0 | N74: 3.88 | P74: 0.00054 | R74: 0.00054 | S74: =ROUND(F74*(R74),3) -> 0.001 | Z74: 0
B75: 711/A 1 | C75: 998711201 | D75: Presun hmôt pre izoláciu proti vode v objektoch výšky do 6 m | E75: % | F75: 2.55 | I75: =ROUND(F75*(G75+H75),2) -> 0 | J75: =ROUND(F75*(N75),2) -> 0.23 | K75: =ROUND(F75*(O75),2) -> 0 | L75: =ROUND(F75*(G75),2) -> 0 | N75: 0.09 | Z75: 0
B76: M | C76: 246170000900 | D76: Lak asfaltový ALP-PENETRAL SN alebo ekvivalent v sudoch | E76: t | F76: 0.001 | I76: =ROUND(F76*(G76+H76),2) -> 0 | J76: =ROUND(F76*(N76),2) -> 1.94 | K76: =ROUND(F76*(O76),2) -> 0 | L76: =ROUND(F76*(G76),2) -> 0 | N76: 1939.47 | Z76: 0
B77: M | C77: 628310001000 | D77: Pás asfaltový HYDROBIT V 60 S 35 alebo ekvivalent pre spodné vrstvy hydroizolačných systémov | E77: m2 | F77: 1.15 | I77: =ROUND(F77*(G77+H77),2) -> 0 | J77: =ROUND(F77*(N77),2) -> 3.42 | K77: =ROUND(F77*(O77),2) -> 0 | L77: =ROUND(F77*(G77),2) -> 0 | N77: 2.97 | Z77: 0
D78: IZOLÁCIE PROTI VODE A VLHKOSTI | H78: =ROUND((SUM(M72:M77))/1,2) -> 0 | I78: =ROUND((SUM(I72:I77))/1,2) -> 0 | L78: =ROUND((SUM(L72:L77))/1,2) -> 0 | M78: =ROUND((SUM(M72:M77))/1,2) -> 0 | P78: =ROUND((SUM(P72:P77))/1,2) -> 0 | S78: =ROUND((SUM(S72:S77))/1,2) -> 0
D80: DREVOSTAVBY
B81: 763/A 2 | C81: 763168122 | D81: SDK obklady oceľových stĺpov prierezu do 12x12 cm, dosky protipožiarné hr. 15 mm - pož.odolnosť min. 30 min. | E81: m2 | F81: 3.08 | I81: =ROUND(F81*(G81+H81),2) -> 0 | J81: =ROUND(F81*(N81),2) -> 81.31 | K81: =ROUND(F81*(O81),2) -> 0 | L81: =ROUND(F81*(G81),2) -> 0 | N81: 26.4 | P81: 0.00925 | R81: 0.00925 | S81: =ROUND(F81*(R81),3) -> 0.028 | Z81: 0
B82: 763/A 2 | C82: 998763401 | D82: Presun hmôt pre sádrokartónové konštrukcie v stavbách(objektoch )výšky do 7 m | E82: % | F82: 0.6 | I82: =ROUND(F82*(G82+H82),2) -> 0 | J82: =ROUND(F82*(N82),2) -> 12.61 | K82: =ROUND(F82*(O82),2) -> 0 | L82: =ROUND(F82*(G82),2) -> 0 | N82: 21.02 | Z82: 0
B83: K | C83: 763135019 | D83: Demontáž - Kazetový podhľad 600 x 600 m | E83: m2 | F83: 30.47 | I83: =ROUND(F83*(G83+H83),2) -> 0 | J83: =ROUND(F83*(N83),2) -> 428.71 | K83: =ROUND(F83*(O83),2) -> 0 | L83: =ROUND(F83*(G83),2) -> 0 | N83: 14.07 | Z83: 0
B84: K | C84: 763138217 | D84: Podhľad SDK RFI 15 mm závesný, jednoúrovňová oceľová podkonštrukcia CD - pož.odolnosť min. 30 min. | E84: m2 | F84: 53.467 | I84: =ROUND(F84*(G84+H84),2) -> 0 | J84: =ROUND(F84*(N84),2) -> 1592.25 | K84: =ROUND(F84*(O84),2) -> 0 | L84: =ROUND(F84*(G84),2) -> 0 | N84: 29.78 | Z84: 0
D85: DREVOSTAVBY | H85: =ROUND((SUM(M80:M84))/1,2) -> 0 | I85: =ROUND((SUM(I80:I84))/1,2) -> 0 | L85: =ROUND((SUM(L80:L84))/1,2) -> 0 | M85: =ROUND((SUM(M80:M84))/1,2) -> 0 | P85: =ROUND((SUM(P80:P84))/1,2) -> 0.01 | S85: =ROUND((SUM(S80:S84))/1,2) -> 0.03
D87: KOVOVÉ DOPLNKOVÉ KONŠTRUKCIE
B88: 767/A 3 | C88: 767161220 | D88: Montáž zábradlia oceľového | E88: m | F88: 21.8 | I88: =ROUND(F88*(G88+H88),2) -> 0 | J88: =ROUND(F88*(N88),2) -> 127.97 | K88: =ROUND(F88*(O88),2) -> 0 | L88: =ROUND(F88*(G88),2) -> 0 | N88: 5.87 | P88: 6e-05 | R88: 6e-05 | S88: =ROUND(F88*(R88),3) -> 0.001 | Z88: 0
B89: 767/A 3 | C89: 998767201 | D89: Presun hmôt pre kovové stavebné doplnkové konštrukcie v objektoch výšky do 6 m | E89: % | F89: 0.8 | I89: =ROUND(F89*(G89+H89),2) -> 0 | J89: =ROUND(F89*(N89),2) -> 196.16 | K89: =ROUND(F89*(O89),2) -> 0 | L89: =ROUND(F89*(G89),2) -> 0 | N89: 245.2 | Z89: 0
B90: K | C90: 767161227 | D90: D+M Výplň zábradlia vnútorného bukas hr. 25 mm + obklad nosníka N1 | E90: m2 | F90: 6.07 | I90: =ROUND(F90*(G90+H90),2) -> 0 | J90: =ROUND(F90*(N90),2) -> 157.46 | K90: =ROUND(F90*(O90),2) -> 0 | L90: =ROUND(F90*(G90),2) -> 0 | N90: 25.94 | Z90: 0
B91: K | C91: 767396903 | D91: Montáž oceľovej konštrukcie vrátane kotvenia | E91: kg | F91: 3693.34 | I91: =ROUND(F91*(G91+H91),2) -> 0 | J91: =ROUND(F91*(N91),2) -> 8310.02 | K91: =ROUND(F91*(O91),2) -> 0 | L91: =ROUND(F91*(G91),2) -> 0 | N91: 2.25 | Z91: 0
B92: K | C92: 767646520 | D92: Montáž dverí kovových - hliníkových, vchodových, 1 m obvodu dverí | E92: m | F92: 6.16 | I92: =ROUND(F92*(G92+H92),2) -> 0 | J92: =ROUND(F92*(N92),2) -> 85.56 | K92: =ROUND(F92*(O92),2) -> 0 | L92: =ROUND(F92*(G92),2) -> 0 | N92: 13.89 | Z92: 0
B93: M | C93: 553410032702 | D93: Dvere hliníkové presklené izol. trojsklom so zárubňou 1050x2030 mm, vr. kovania - ozn. O1 | E93: ks | F93: 1 | I93: =ROUND(F93*(G93+H93),2) -> 0 | J93: =ROUND(F93*(N93),2) -> 1250 | K93: =ROUND(F93*(O93),2) -> 0 | L93: =ROUND(F93*(G93),2) -> 0 | N93: 1250 | Z93: 0
B94: M | C94: PC76705 | D94: Dodávka oceľe - viď výpis ocele výkres č. 03 - vrátane povrchovej úpravy | E94: kg | F94: 3693.34 | I94: =ROUND(F94*(G94+H94),2) -> 0 | J94: =ROUND(F94*(N94),2) -> 12852.82 | K94: =ROUND(F94*(O94),2) -> 0 | L94: =ROUND(F94*(G94),2) -> 0 | N94: 3.48 | Z94: 0
D95: KOVOVÉ DOPLNKOVÉ KONŠTRUKCIE | H95: =ROUND((SUM(M87:M94))/1,2) -> 0 | I95: =ROUND((SUM(I87:I94))/1,2) -> 0 | L95: =ROUND((SUM(L87:L94))/1,2) -> 0 | M95: =ROUND((SUM(M87:M94))/1,2) -> 0 | P95: =ROUND((SUM(P87:P94))/1,2) -> 0 | S95: =ROUND((SUM(S87:S94))/1,2) -> 0
D97: PODLAHY A OBKLADY KERAMICKÉ-DLAŽBY
B98: 771/A 1 | C98: 771415016 | D98: Montáž soklíkov z obkladačiek do tmelu | E98: m | F98: 14.1 | I98: =ROUND(F98*(G98+H98),2) -> 0 | J98: =ROUND(F98*(N98),2) -> 44.56 | K98: =ROUND(F98*(O98),2) -> 0 | L98: =ROUND(F98*(G98),2) -> 0 | N98: 3.16 | P98: 0.00097 | R98: 0.00097 | S98: =ROUND(F98*(R98),3) -> 0.014 | Z98: 0
B99: 771/A 1 | C99: 771575109 | D99: Montáž podláh z dlaždíc keramických do tmelu | E99: m2 | F99: 22.992 | I99: =ROUND(F99*(G99+H99),2) -> 0 | J99: =ROUND(F99*(N99),2) -> 426.73 | K99: =ROUND(F99*(O99),2) -> 0 | L99: =ROUND(F99*(G99),2) -> 0 | N99: 18.56 | P99: 0.0053 | R99: 0.0053 | S99: =ROUND(F99*(R99),3) -> 0.122 | Z99: 0
B100: 771/A 1 | C100: 998771201 | D100: Presun hmôt pre podlahy z dlaždíc v objektoch výšky do 6m | E100: % | F100: 3.55 | I100: =ROUND(F100*(G100+H100),2) -> 0 | J100: =ROUND(F100*(N100),2) -> 36.53 | K100: =ROUND(F100*(O100),2) -> 0 | L100: =ROUND(F100*(G100),2) -> 0 | N100: 10.29 | Z100: 0
B101: K | C101: 771541114x | D101: Príplatok za škárovanie škárovacou hmotou | E101: m2 | F101: 25.12 | I101: =ROUND(F101*(G101+H101),2) -> 0 | J101: =ROUND(F101*(N101),2) -> 66.57 | K101: =ROUND(F101*(O101),2) -> 0 | L101: =ROUND(F101*(G101),2) -> 0 | N101: 2.65 | Z101: 0
B102: M | C102: 585820001800 | D102: Flexibilné cementové lepidlo na obklady a dlažby | E102: kg | F102: 79.669 | I102: =ROUND(F102*(G102+H102),2) -> 0 | J102: =ROUND(F102*(N102),2) -> 70.11 | K102: =ROUND(F102*(O102),2) -> 0 | L102: =ROUND(F102*(G102),2) -> 0 | N102: 0.88 | Z102: 0
B103: M | C103: 585860000500 | D103: Flexibilná škárovacia hmota | E103: kg | F103: 8.45 | I103: =ROUND(F103*(G103+H103),2) -> 0 | J103: =ROUND(F103*(N103),2) -> 25.35 | K103: =ROUND(F103*(O103),2) -> 0 | L103: =ROUND(F103*(G103),2) -> 0 | N103: 3 | Z103: 0
B104: M | C104: 59247007100 | D104: Dlažba keramická hr. 8 mm | E104: m2 | F104: 26.362 | I104: =ROUND(F104*(G104+H104),2) -> 0 | J104: =ROUND(F104*(N104),2) -> 395.43 | K104: =ROUND(F104*(O104),2) -> 0 | L104: =ROUND(F104*(G104),2) -> 0 | N104: 15 | Z104: 0
D105: PODLAHY A OBKLADY KERAMICKÉ-DLAŽBY | H105: =ROUND((SUM(M97:M104))/1,2) -> 0 | I105: =ROUND((SUM(I97:I104))/1,2) -> 0 | L105: =ROUND((SUM(L97:L104))/1,2) -> 0 | M105: =ROUND((SUM(M97:M104))/1,2) -> 0 | P105: =ROUND((SUM(P97:P104))/1,2) -> 0.01 | S105: =ROUND((SUM(S97:S104))/1,2) -> 0.14
D107: MAĽBY
B108: 784/A 1 | C108: 784452261 | D108: Maľby z maliarskych zmesí - penetrácia | E108: m2 | F108: 88.917 | I108: =ROUND(F108*(G108+H108),2) -> 0 | J108: =ROUND(F108*(N108),2) -> 53.35 | K108: =ROUND(F108*(O108),2) -> 0 | L108: =ROUND(F108*(G108),2) -> 0 | N108: 0.6 | P108: 0.0001 | R108: 0.0001 | S108: =ROUND(F108*(R108),3) -> 0.009 | Z108: 0
B109: K | C109: 784452272. | D109: Maľby z maliarskych zmesí dvojnásobné | E109: m2 | F109: 88.917 | I109: =ROUND(F109*(G109+H109),2) -> 0 | J109: =ROUND(F109*(N109),2) -> 227.63 | K109: =ROUND(F109*(O109),2) -> 0 | L109: =ROUND(F109*(G109),2) -> 0 | N109: 2.56 | Z109: 0
D110: MAĽBY | I110: =ROUND((SUM(I107:I109))/1,2) -> 0 | L110: =ROUND((SUM(L107:L109))/1,2) -> 0 | M110: =ROUND((SUM(M107:M109))/1,2) -> 0 | S110: =ROUND((SUM(S107:S109))/1,2) -> 0.01 | V110: =ROUND((SUM(V107:V109))/1,2) -> 0
D112: Práce PSV | H112: =ROUND((SUM(M71:M111))/2,2) -> 0 | I112: =ROUND((SUM(I71:I111))/2,2) -> 0 | L112: =ROUND((SUM(L71:L111))/2,2) -> 0 | M112: =ROUND((SUM(M71:M111))/2,2) -> 0 | S112: =ROUND((SUM(S71:S111))/2,2) -> 0.18 | V112: =ROUND((SUM(V71:V111))/2,2) -> 0
D113: Celkom v EUR | H113: =ROUND((SUM(M9:M112))/3,2) -> 0 | I113: =ROUND((SUM(I9:I112))/3,2) -> 0 | K113: =ROUND((SUM(K9:K112))/3,2) -> 0 | L113: =ROUND((SUM(L9:L112))/3,2) -> 0 | M113: =ROUND((SUM(M9:M112))/3,2) -> 0 | S113: =ROUND((SUM(S9:S112))/3,2) -> 10.48 | V113: =ROUND((SUM(V9:V112))/3,2) -> 0 | Z113: =(SUM(Z9:Z112)) -> 0
